{"text_format":"3","workbook":"xlsx","n_sheets":26,"sheets":["ТИТУЛ","ОГЛАВЛЕНИЕ","СК-1","СК-2","СК-3","ИТОГ СК","ПР-1","ПР-2","ПР-3","ИТОГ ПР","РР-1","РР-2","РР-3","РР-4","РР-5","ИТОГ РР","ХЭ-1","ХЭ-2","ХЭ-3","ХЭ-4","ХЭ-5","ИТОГ ХЭ","ФР-1","ФР-2","ИТОГ ФР","ИТОГОВАЯ ПО ОО"],"not_rendered":{"charts":46,"images":25},"read":"whole","date_system":"1900"}

{"sheet":"ТИТУЛ","index":0,"n_rows":66,"n_cols":3,"rows_kept":66,"merged":[[0,0,0,8],[1,0,1,8],[2,0,2,8],[9,0,10,8],[12,2,12,6],[14,1,14,7],[15,1,15,7],[23,0,23,2],[23,3,23,6],[24,0,24,2],[24,3,24,6],[25,0,26,2],[25,3,25,6],[26,3,26,6],[43,0,43,8],[45,0,45,8],[47,0,47,8],[49,0,49,8],[51,0,51,8],[53,0,53,8],[55,0,55,8],[57,0,57,8],[59,0,59,8],[61,0,61,8],[63,0,63,8],[65,0,65,8]]}
["Муниципальное автономное дошкольное образовательное учреждение"]
["детский сад комбинированного вида №24 \"Березка\" г. Белебея"]
["муниципального района Белебеевский район Республики Башкортостан"]
[]
[]
[]
[]
[]
[]
["Диагностика индивидуального развития детей  4 - 5 лет"]
[]
[]
[null,null,"20__-20___ учебный год"]
[]
[null,"В соответствии с Федеральной образовательной программой дошкольного образования"]
[null,"Приказ Министерства просвещения РФ от 25.11.2022г."]
[]
[]
[]
[]
[]
["Педагоги:"]
[]
["Воспитатель:"]
["Воспитатель:"]
["Музыкальный руководитель:"]
{"$rows_empty":15}
[null,"Планируемые образовательные результаты к пяти годам:"]
[]
["ребенок проявляет интерес к разнообразным физическим упражнениям, действиям с физкультурными пособиями, настойчивость для достижения хорошего результата, испытывает потребность в двигательной активности;"]
[]
["ребенок демонстрирует хорошую координацию, быстроту, силу, выносливость, гибкость, хорошее развитие крупной и мелкой моторики рук активно и с интересом выполняет основные движения, основные элементы общеразвивающих, спортивных упражнений, свободно ориентируется в пространстве, переносит освоенные упражнения в самостоятельную деятельность;"]
[]
["ребенок интересуется факторами, обеспечивающими здоровье, стремится узнать о правилах здорового образа жизни, готов элементарно охарактеризовать свое самочувствие, привлечь внимание взрослого в случае недомогания; стремится к самостоятельному осуществлению процессов личной гигиены, их правильной организации;"]
[]
["ребенок владеет знаниями и разными способами деятельности для решения поставленных взрослым задач, проявляет самостоятельность, умеет работать по образцу, слушать взрослого и выполнять его задания, достигать запланированного результата;"]
[]
["ребенок демонстрирует активность в общении, решает бытовые и игровые задачи посредством общения со взрослыми и сверстниками; без напоминания взрослого здоровается и прощается, говорит «спасибо» и «пожалуйста»;"]
[]
["ребенок выполняет самостоятельно знакомые правила общения со взрослыми, внимателен к словам и оценкам взрослого, стремится к познавательному, интеллектуальному общению со взрослыми: задает много вопросов поискового характера, стремится к положительным формам поведения, замечает ярко выраженное эмоциональное состояние сверстника или близких, по примеру воспитателя проявляет сочувствие;"]
[]
["ребенок демонстрирует стремление к общению со сверстниками, по предложению воспитателя может договориться со сверстниками, стремится к самовыражению в деятельности, к признанию и уважению сверстников;"]
[]
["ребенок проявляет творчество в создании игровой обстановки, в театрализации; в играх наблюдается разнообразие сюжетов; проявляет самостоятельность в выборе и использовании предметов-заместителей, активно включается в ролевой диалог со сверстниками, выдвигает игровые замыслы, в играх с правилами принимает игровую задачу;"]
[]
["ребенок познает правила безопасного поведения и стремится их выполнять в повседневной жизни;"]
[]
["ребенок проявляет познавательный интерес к труду взрослых, профессиям, технике; отражает эти представления в играх; способен использовать обследовательские действия для выделения качеств и свойств предметов и материалов, рассказать о предмете, его назначении и особенностях, о том, как он был создан; самостоятелен в самообслуживании; стремится к выполнению трудовых обязанностей, охотно включается в совместный труд со взрослыми или сверстниками;"]
[]
["ребенок проявляет высокую активность и любознательность, задает много вопросов поискового характера; имеет некоторый опыт деятельности и запас представлений об окружающем мире, с помощью воспитателя активно включается в деятельность экспериментирования, в процессе совместной исследовательской деятельности активно познает и называет свойства и качества предметов, особенности объектов природы, обследовательские действия; объединяет предметы и объекты в видовые категории с указанием характерных признаков;"]
[]
["ребенок инициативен в разговоре, речевые контакты становятся более длительными и активными, использует разные типы реплик и простые формы объяснительной речи; большинство звуков произносит правильно, пользуется средствами эмоциональной и речевой выразительности; самостоятельно пересказывает знакомые сказки, с небольшой помощью взрослого составляет описательные рассказы и загадки; проявляет словотворчество, интерес к языку, с интересом слушает литературные тексты, воспроизводит текст."]

{"sheet":"ОГЛАВЛЕНИЕ","index":1,"n_rows":37,"n_cols":2,"rows_kept":37,"merged":[[0,1,0,7],[1,1,1,7],[2,1,2,7],[3,1,3,7],[4,0,4,8],[5,0,6,0],[5,1,6,7],[7,0,8,0],[7,1,8,7],[9,1,9,7],[10,1,10,7],[11,1,11,7],[12,0,12,8],[13,1,13,7],[14,1,14,7],[15,1,15,7],[16,1,16,7],[17,0,17,8],[18,1,18,7],[19,1,19,7],[20,1,20,7],[21,1,21,7],[22,1,22,7],[23,1,23,7],[24,0,24,8],[25,1,25,7],[26,1,26,7],[27,1,27,7],[28,1,28,7],[29,1,29,7],[30,1,30,7],[31,0,31,8],[32,1,32,7],[33,1,33,7],[34,1,34,7],[36,1,36,7]]}
[null,"ОГЛАВЛЕНИЕ:"]
[null,"Кликнув мышкой по соответствующему названию, вы автоматически перейдете в нужный раздел."]
[null,"Планируемые результаты педагогической деятельности к пяти годам."]
["наименование вкладки","ТИТУЛЬНЫЙ ЛИСТ"]
["Образовательная область \"Социально-коммуникативное развитие\""]
["СК-1","НАПРАВЛЕНИЕ 1. СОЦИАЛЬНЫЕ ОТНОШЕНИЯ."]
[]
["СК-2","НАПРАВЛЕНИЕ 2. ФОРМИРОВАНИЕ ОСНОВ ГРАЖДАНСТВЕННОСТИ И ПАРТИОТИЗМА."]
[]
["СК-3","НАПРАВЛЕНИЕ 3. ТРУДОВОЕ ВОСПИТАНИЕ"]
["СК-3","НАПРАВЛЕНИЕ 4. ФОРМИРОВАНИЕ ОСНОВ БЕЗОПАСНОГО ПОВЕДЕНИЯ"]
["ИТОГ СК","Обобщение результатов педагогической диагностики по направлениям ОО \"Социально-коммуникативное развитие\""]
["Образовательная область \"Познавательное развитие\""]
["ПР-1","НАПРАВЛЕНИЕ 1. СЕНСОРНЫЕ ЭТАЛОНЫ И ПОЗНАВАТЕЛЬНЫЕ ДЕЙСТВИЯ."]
["ПР-2","НАПРАВЛЕНИЕ 2. МАТЕМАТИЧЕСКИЕ ПРЕДСТАВЛЕНИЯ"]
["ПР-3","НАПРАВЛЕНИЕ 3.  ОКРУЖАЮЩИЙ МИР. ПРИРОДА"]
["ИТОГ -ПР","Обобщение результатов педагогической диагностики по направлениям ОО \"Познавательное развитие\""]
["Образовательная область \"Речевое  развитие\""]
["РР-1","НАПРАВЛЕНИЕ I. ФОРМИРОВАНИЕ СЛОВАРЯ"]
["РР-2","НАПРАВЛЕНИЕ 2. ГРАММАТИЧЕСКИЙ СТРОЙ РЕЧИ. "]
["РР-3","НАПРАВЛЕНИЕ 3. СВЯЗНАЯ РЕЧЬ"]
["РР-4","НАПРАВЛЕНИЕ 4. ЗВУКОВАЯ КУЛЬТУРА РЕЧИ. ПОДГОТОВКА К ОБУЧЕНИЮ ГРАМОТЕ"]
["РР-5","НАПРАВЛЕНИЕ 5. ИНТЕРЕС К ХУДОЖЕСТВЕННОЙ ЛИТЕРАТУРЕ"]
["ИТОГ РР","Обобщение результатов педагогической диагностики по направлениям ОО \"Речевое развитие\""]
["Образовательная область \"Художественно-эстетическое развитие\""]
["ХЭ-1","НАПРАВЛЕНИЕ I. ПРИОБЩЕНИЕ К ИСКУССТВУ"]
["ХЭ-2","НАПРАВЛЕНИЕ 2. ИЗОБРАЗИТЕЛЬНАЯ ДЕЯТЕЛЬНОСТЬ"]
["ХЭ-3","НАПРАВЛЕНИЕ 3. КОНСТРУКТИВНАЯ ДЕЯТЕЛЬНОСТЬ"]
["ХЭ-4","НАПРАВЛЕНИЕ 4. МУЗЫКАЛЬНАЯ ДЕЯТЕЛЬНОСТЬ"]
["ХЭ-5","НАПРАВЛЕНИЕ 5. ТЕАТРАЛИЗОВАННАЯ И КУЛЬТУРНО-ДОСУГОВАЯ ДЕЯТЕЛЬНОСТЬ"]
["ИТОГ ХЭ","Обобщение результатов педагогической диагностики по направлениям ОО \"Художественно-эстетическое развитие\""]
["Образовательная область \"Физическое развитие\""]
["ФР-1","НАПРАВЛЕНИЕ I. ОСНОВНАЯ ГИМНАСТИКА. ПОДВИЖНЫЕ И СПОРТИВНЫЕ ИГРЫ. СПОРТИВНЫЕ УПРАЖНЕНИЯ"]
["ФР-2","НАПРАВЛЕНИЕ 2. ФОРМИРОВАНИЕ ОСНОВ ЗДОРОВОГО ОБРАЗА ЖИЗНИ. АКТИВНЫЙ ОТДЫХ"]
["ИТОГ ФР","Обобщение результатов педагогической диагностики по направлениям ОО «Физическое развитие»"]
[]
["ОБЩИЙ ИТОГ","Обобщение результатов педагогической диагностики по всем образовательным областям "]

{"sheet":"СК-1","index":2,"n_rows":44,"n_cols":17,"rows_kept":44,"merged":[[0,1,0,16],[1,13,1,14],[4,1,6,1],[4,2,6,2],[4,3,5,4],[4,5,5,6],[4,7,5,8],[4,9,5,10],[4,11,5,12],[4,13,5,14],[4,15,5,16],[33,2,33,3],[34,2,35,2],[34,3,35,3],[34,4,35,4],[34,5,35,5],[34,6,35,6],[39,2,39,3],[40,2,41,2],[40,3,41,3],[40,4,41,4],[40,5,41,5],[40,6,41,6]]}
[null,"Образовательная область «Социально-коммуникативное развитие»"]
[{"$nulls":13},"ОГЛАВЛЕНИЕ"]
[null,"НАПРАВЛЕНИЕ 1. СОЦИАЛЬНЫЕ ОТНОШЕНИЯ"]
[]
[null,"№п/п","ФИ ребенка","Старается соблюдать правила поведения в общественных местах, в общении со взрослыми и сверстниками, к природе",null,"Понимает социальную оценку поступков сверстников или героев иллюстраций, литературных произведений, эмоционально откликается",null,"Понимает значение слов обозначающих эмоциональное состояние, этические качества, эстетические характеристики",null,"Умеет договариваться, поддерживать совместные дела в небольших группах         (3-4 чел)",null,"Проявляет вежливость, уважение к старшим. Демонстрирует различные формы приветствия, прощания, выражения благодарности и просьбы",null,"Уважительно относится ко взрослым (родителям (законным представителям), педагогам и окружающим людям)",null,"среднее значение "]
[]
[{"$nulls":3},"н.г.","к.г.","н.г.","к.г.","н.г.","к.г.","н.г.","к.г.","н.г.","к.г.","н.г.","к.г.","н.г.","к.г."]
[null,1,"Иванов",2,3,2,3,2,3,2,3,2,3,2,3,{"$f":"(D8+F8+H8+J8+L8+N8)/6","v":{"v":2,"d":"2.00"}},{"$f":"(E8+G8+I8+K8+M8+O8)/6","v":{"v":3,"d":"3.00"}}]
[null,2,"Петров",{"$nulls":12},{"$f":"(D9+F9+H9+J9+L9+N9)/6","v":{"v":0,"d":"0.00"}},{"$f":"(E9+G9+I9+K9+M9+O9)/6","v":{"v":0,"d":"0.00"}}]
[null,3,"Сидоров",{"$nulls":12},{"v":0,"d":"0.00"},{"v":0,"d":"0.00"}]
[null,4,{"$nulls":13},{"v":0,"d":"0.00"},{"v":0,"d":"0.00"}]
[null,5,{"$nulls":13},{"v":0,"d":"0.00"},{"v":0,"d":"0.00"}]
[null,6,{"$nulls":13},{"v":0,"d":"0.00"},{"v":0,"d":"0.00"}]
[null,7,{"$nulls":13},{"v":0,"d":"0.00"},{"v":0,"d":"0.00"}]
[null,8,{"$nulls":13},{"v":0,"d":"0.00"},{"v":0,"d":"0.00"}]
[null,9,{"$nulls":13},{"v":0,"d":"0.00"},{"v":0,"d":"0.00"}]
[null,10,{"$nulls":13},{"v":0,"d":"0.00"},{"v":0,"d":"0.00"}]
[null,11,{"$nulls":13},{"v":0,"d":"0.00"},{"v":0,"d":"0.00"}]
[null,12,{"$nulls":13},{"v":0,"d":"0.00"},{"v":0,"d":"0.00"}]
[null,13,{"$nulls":13},{"v":0,"d":"0.00"},{"v":0,"d":"0.00"}]
[null,14,{"$nulls":13},{"v":0,"d":"0.00"},{"v":0,"d":"0.00"}]
[null,15,{"$nulls":13},{"v":0,"d":"0.00"},{"v":0,"d":"0.00"}]
[null,16,{"$nulls":13},{"v":0,"d":"0.00"},{"v":0,"d":"0.00"}]
[null,17,{"$nulls":13},{"v":0,"d":"0.00"},{"v":0,"d":"0.00"}]
[null,18,{"$nulls":13},{"v":0,"d":"0.00"},{"v":0,"d":"0.00"}]
[null,19,{"$nulls":13},{"v":0,"d":"0.00"},{"v":0,"d":"0.00"}]
[null,20,{"$nulls":13},{"v":0,"d":"0.00"},{"v":0,"d":"0.00"}]
[null,21,{"$nulls":13},{"v":0,"d":"0.00"},{"v":0,"d":"0.00"}]
[null,22,{"$nulls":13},{"v":0,"d":"0.00"},{"v":0,"d":"0.00"}]
[null,23,{"$nulls":13},{"v":0,"d":"0.00"},{"v":0,"d":"0.00"}]
[null,24,{"$nulls":13},{"v":0,"d":"0.00"},{"v":0,"d":"0.00"}]
[null,null,"среднее значение:",{"$f":"(D8+D9+D10+D11+D12+D13+D14+D15+D16+D17+D18+D19+D20+D21+D22+D23+D24+D25+D26+D27+D28+D29+D30+D31)/COUNTA($C$8:$C$31)","v":{"v":0.6666666666666666,"d":"0.67"}},{"$f":"(E8+E9+E10+E11+E12+E13+E14+E15+E16+E17+E18+E19+E20+E21+E22+E23+E24+E25+E26+E27+E28+E29+E30+E31)/COUNTA($C$8:$C$31)","v":{"v":1,"d":"1.00"}},{"v":0.6666666666666666,"d":"0.67"},{"v":1,"d":"1.00"},{"v":0.6666666666666666,"d":"0.67"},{"v":1,"d":"1.00"},{"v":0.6666666666666666,"d":"0.67"},{"v":1,"d":"1.00"},{"v":0.6666666666666666,"d":"0.67"},{"v":1,"d":"1.00"},{"v":0.6666666666666666,"d":"0.67"},{"v":1,"d":"1.00"},{"v":0.6666666666666666,"d":"0.67"},{"v":1,"d":"1.00"}]
[]
[null,null,"начало года"]
[{"$nulls":3},"всего","норма","ниже нормы","низкий "]
[]
[null,null,"количество детей",{"$f":"COUNTA($C$8:$C$31)","v":3},{"$f":"COUNTIF(P8:P31,\">=3,8\")","v":0},{"$f":"COUNTIFS(P8:P31,\"<3,7\",P8:P31,\">=2,3\")","v":0},{"$f":"COUNTIFS(P8:P31,\"<2,2\",P8:P31,\">0\")","v":1}]
[null,null,"%",100,{"$f":"E37*D38/D37","v":0},{"$f":"F37*D38/D37","v":{"v":0,"d":"0.0"}},{"$f":"G37*D38/D37","v":{"v":33.333333333333336,"d":"33.3"}}]
[]
[null,null,"конец года"]
[{"$nulls":3},"всего","норма","ниже нормы","низкий "]
[]
[null,null,"количество детей",{"$f":"COUNTA($C$8:$C$31)","v":3},{"$f":"COUNTIF(Q8:Q31,\">=3,8\")","v":0},{"$f":"COUNTIFS(Q8:Q31,\"<3,7\",Q8:Q31,\">=2,3\")","v":1},{"$f":"COUNTIFS(Q8:Q31,\"<2,2\",Q8:Q31,\">0\")","v":0}]
[null,null,"%",100,{"$f":"E43*D44/D43","v":{"v":0,"d":"0.0"}},{"$f":"F43*D44/D43","v":{"v":33.333333333333336,"d":"33.3"}},{"$f":"G43*D44/D43","v":{"v":0,"d":"0.0"}}]

{"sheet":"СК-2","index":3,"n_rows":43,"n_cols":13,"rows_kept":43,"merged":[[0,1,0,9],[0,10,0,11],[2,1,4,1],[2,2,4,2],[2,3,2,6],[2,7,3,8],[2,9,3,10],[2,11,3,12],[3,3,3,4],[3,5,3,6],[32,2,32,4],[33,2,34,2],[33,3,34,3],[33,4,34,4],[33,5,34,5],[33,6,34,6],[39,2,40,2],[39,3,40,3],[39,4,40,4],[39,5,40,5],[39,6,40,6]]}
[null,"НАПРАВЛЕНИЕ 2. ФОРМИРОВАНИЕ ОСНОВ ГРАЖДАНСТВЕННОСТИ И ПАРИОТИЗМА.",{"$nulls":8},"ОГЛАВЛЕНИЕ"]
[]
[null,"№п/п","ФИ ребенка","Знает и называет",{"$nulls":3},"Проявляет уважительное отношение к государственным символам страны (герб, флаг)",null,"Знает значение государственных праздников: День защитника Отечества, День Победы",null,"среднее значение "]
[{"$nulls":3},"основные достопримечательности города",null,"название улицы, на которой он живет"]
[{"$nulls":3},"н.г.","к.г.","н.г.","к.г.","н.г.","к.г.","н.г.","к.г.","н.г.","к.г."]
[null,1,"Иванов",2,3,2,3,3,4,3,4,{"$f":"(D6+F6+H6+J6)/4","v":{"v":2.5,"d":"2.50"}},{"$f":"(E6+G6+I6+K6)/4","v":{"v":3.5,"d":"3.50"}}]
[null,2,"Петров",{"$nulls":8},{"$f":"(D7+F7+H7+J7)/4","v":{"v":0,"d":"0.00"}},{"v":0,"d":"0.00"}]
[null,3,"Сидоров",{"$nulls":8},{"v":0,"d":"0.00"},{"v":0,"d":"0.00"}]
[null,4,{"$nulls":9},{"v":0,"d":"0.00"},{"v":0,"d":"0.00"}]
[null,5,{"$nulls":9},{"v":0,"d":"0.00"},{"v":0,"d":"0.00"}]
[null,6,{"$nulls":9},{"v":0,"d":"0.00"},{"v":0,"d":"0.00"}]
[null,7,{"$nulls":9},{"v":0,"d":"0.00"},{"v":0,"d":"0.00"}]
[null,8,{"$nulls":9},{"v":0,"d":"0.00"},{"v":0,"d":"0.00"}]
[null,9,{"$nulls":9},{"v":0,"d":"0.00"},{"v":0,"d":"0.00"}]
[null,10,{"$nulls":9},{"v":0,"d":"0.00"},{"v":0,"d":"0.00"}]
[null,11,{"$nulls":9},{"v":0,"d":"0.00"},{"v":0,"d":"0.00"}]
[null,12,{"$nulls":9},{"v":0,"d":"0.00"},{"v":0,"d":"0.00"}]
[null,13,{"$nulls":9},{"v":0,"d":"0.00"},{"v":0,"d":"0.00"}]
[null,14,{"$nulls":9},{"v":0,"d":"0.00"},{"v":0,"d":"0.00"}]
[null,15,{"$nulls":9},{"v":0,"d":"0.00"},{"v":0,"d":"0.00"}]
[null,16,{"$nulls":9},{"v":0,"d":"0.00"},{"v":0,"d":"0.00"}]
[null,17,{"$nulls":9},{"v":0,"d":"0.00"},{"v":0,"d":"0.00"}]
[null,18,{"$nulls":9},{"v":0,"d":"0.00"},{"v":0,"d":"0.00"}]
[null,19,{"$nulls":9},{"v":0,"d":"0.00"},{"v":0,"d":"0.00"}]
[null,20,{"$nulls":9},{"v":0,"d":"0.00"},{"v":0,"d":"0.00"}]
[null,21,{"$nulls":9},{"v":0,"d":"0.00"},{"v":0,"d":"0.00"}]
[null,22,{"$nulls":9},{"v":0,"d":"0.00"},{"v":0,"d":"0.00"}]
[null,23,{"$nulls":9},{"v":0,"d":"0.00"},{"v":0,"d":"0.00"}]
[null,24,{"$nulls":9},{"v":0,"d":"0.00"},{"v":0,"d":"0.00"}]
[null,null,"среднее значение:",{"$f":"(D6+D7+D8+D9+D10+D11+D12+D13+D14+D15+D16+D17+D18+D19+D20+D21+D22+D23+D24+D25+D26+D27+D28+D29)/COUNTA($C$6:$C$29)","v":{"v":0.6666666666666666,"d":"0.67"}},{"$f":"(E6+E7+E8+E9+E10+E11+E12+E13+E14+E15+E16+E17+E18+E19+E20+E21+E22+E23+E24+E25+E26+E27+E28+E29)/COUNTA($C$6:$C$29)","v":{"v":1,"d":"1.00"}},{"v":0.6666666666666666,"d":"0.67"},{"v":1,"d":"1.00"},{"v":1,"d":"1.00"},{"v":1.3333333333333333,"d":"1.33"},{"v":1,"d":"1.00"},{"v":1.3333333333333333,"d":"1.33"},{"v":0.8333333333333333,"d":"0.83"},{"v":1.1666666666666665,"d":"1.17"}]
[]
[]
[null,null,"начало года"]
[{"$nulls":3},"всего","норма","ниже нормы","низкий "]
[]
[null,null,"количество детей",{"$f":"COUNTA($C$6:$C$29)","v":3},{"$f":"COUNTIF(L6:L29,\">=3,8\")","v":0},{"$f":"COUNTIFS(L6:L29,\"<3,7\",L6:L29,\">=2,3\")","v":1},{"$f":"COUNTIFS(L6:L29,\"<2,2\",L6:L29,\">0\")","v":0}]
[null,null,"%",100,{"$f":"E36*D37/D36","v":0},{"$f":"F36*D37/D36","v":{"v":33.333333333333336,"d":"33.3"}},{"$f":"G36*D37/D36","v":{"v":0,"d":"0.0"}}]
[]
[null,null,"конец года"]
[{"$nulls":3},"всего","норма","ниже нормы","низкий "]
[]
[null,null,"количество детей",{"$f":"COUNTA($C$6:$C$29)","v":3},{"$f":"COUNTIF(M6:M29,\">=3,8\")","v":0},{"$f":"COUNTIFS(M6:M29,\"<3,7\",M6:M29,\">=2,3\")","v":1},{"$f":"COUNTIFS(M6:M29,\"<2,2\",M6:M29,\">0\")","v":0}]
[null,null,"%",100,{"$f":"E42*D43/D42","v":{"v":0,"d":"0.0"}},{"$f":"F42*D43/D42","v":{"v":33.333333333333336,"d":"33.3"}},{"$f":"G42*D43/D42","v":{"v":0,"d":"0.0"}}]

{"sheet":"СК-3","index":4,"n_rows":84,"n_cols":21,"rows_kept":84,"merged":[[1,20,1,21],[2,1,4,1],[2,2,4,2],[2,3,3,4],[2,5,3,6],[2,7,3,8],[2,9,3,10],[2,11,3,12],[2,13,3,14],[2,15,3,16],[2,17,3,18],[44,1,44,18],[46,1,48,1],[46,2,48,2],[46,3,47,4],[46,5,47,6],[46,7,47,8],[46,9,46,16],[46,17,47,18],[47,9,47,10],[47,11,47,12],[47,13,47,14],[47,15,47,16]]}
[null,"НАПРАВЛЕНИЕ 3. ТРУДОВОЕ ВОСПИТАНИЕ"]
[{"$nulls":20},"ОГЛАВЛЕНИЕ"]
[null,"№п/п","ФИ ребенка","Имеет представления о мужских и женских профессиях. ",null,"Готовит к занятиям рабочее место, убирает материалы по окончании работы",null,"Знает содержание и структуру хозяйственно-бытового труда взрослых",null,"Знает основные характеристики материалов (прочность, мягкость, промокаемость)",null,"Знает назначение бытовой техники",null,"Оказывает взаимопомощь",null,"Бережно относится к вещам",null,"среднее значение "]
[]
[{"$nulls":3},"н.г.","к.г.","н.г.","к.г.","н.г.","к.г.","н.г.","к.г.","н.г.","к.г.","н.г.","к.г.","н.г.","к.г.","н.г.","к.г."]
[null,1,"Иванов",3,4,3,4,2,3,3,4,3,4,3,4,4,5,{"$f":"(D6+F6+H6+J6+L6+N6+P6)/7","v":{"v":3,"d":"3.00"}},{"$f":"(E6+G6+I6+K6+M6+O6+Q6)/7","v":{"v":4,"d":"4.00"}}]
[null,2,"Петров",{"$nulls":14},{"$f":"(D7+F7+H7+J7+L7+N7+P7)/7","v":{"v":0,"d":"0.00"}},{"v":0,"d":"0.00"}]
[null,3,"Сидоров",{"$nulls":14},{"v":0,"d":"0.00"},{"v":0,"d":"0.00"}]
[null,4,{"$nulls":15},{"v":0,"d":"0.00"},{"v":0,"d":"0.00"}]
[null,5,{"$nulls":15},{"v":0,"d":"0.00"},{"v":0,"d":"0.00"}]
[null,6,{"$nulls":15},{"v":0,"d":"0.00"},{"v":0,"d":"0.00"}]
[null,7,{"$nulls":15},{"v":0,"d":"0.00"},{"v":0,"d":"0.00"}]
[null,8,{"$nulls":15},{"v":0,"d":"0.00"},{"v":0,"d":"0.00"}]
[null,9,{"$nulls":15},{"v":0,"d":"0.00"},{"v":0,"d":"0.00"}]
[null,10,{"$nulls":15},{"v":0,"d":"0.00"},{"v":0,"d":"0.00"}]
[null,11,{"$nulls":15},{"v":0,"d":"0.00"},{"v":0,"d":"0.00"}]
[null,12,{"$nulls":15},{"v":0,"d":"0.00"},{"v":0,"d":"0.00"}]
[null,13,{"$nulls":15},{"v":0,"d":"0.00"},{"v":0,"d":"0.00"}]
[null,14,{"$nulls":15},{"v":0,"d":"0.00"},{"v":0,"d":"0.00"}]
[null,15,{"$nulls":15},{"v":0,"d":"0.00"},{"v":0,"d":"0.00"}]
[null,16,{"$nulls":15},{"v":0,"d":"0.00"},{"v":0,"d":"0.00"}]
[null,17,{"$nulls":15},{"v":0,"d":"0.00"},{"v":0,"d":"0.00"}]
[null,18,{"$nulls":15},{"v":0,"d":"0.00"},{"v":0,"d":"0.00"}]
[null,19,{"$nulls":15},{"v":0,"d":"0.00"},{"v":0,"d":"0.00"}]
[null,20,{"$nulls":15},{"v":0,"d":"0.00"},{"v":0,"d":"0.00"}]
[null,21,{"$nulls":15},{"v":0,"d":"0.00"},{"v":0,"d":"0.00"}]
[null,22,{"$nulls":15},{"v":0,"d":"0.00"},{"v":0,"d":"0.00"}]
[null,23,{"$nulls":15},{"v":0,"d":"0.00"},{"v":0,"d":"0.00"}]
[null,24,{"$nulls":15},{"v":0,"d":"0.00"},{"v":0,"d":"0.00"}]
[null,null,"среднее значение:",{"$f":"(D6+D7+D8+D9+D10+D11+D12+D13+D14+D15+D16+D17+D18+D19+D20+D21+D22+D23+D24+D25+D26+D27+D28+D29)/COUNTA($C$8:$C$31)","v":{"v":1.5,"d":"1.50"}},{"$f":"(E6+E7+E8+E9+E10+E11+E12+E13+E14+E15+E16+E17+E18+E19+E20+E21+E22+E23+E24+E25+E26+E27+E28+E29)/COUNTA($C$8:$C$31)","v":{"v":2,"d":"2.00"}},{"v":1.5,"d":"1.50"},{"v":2,"d":"2.00"},{"v":1,"d":"1.00"},{"v":1.5,"d":"1.50"},{"v":1.5,"d":"1.50"},{"v":2,"d":"2.00"},{"v":1.5,"d":"1.50"},{"v":2,"d":"2.00"},{"v":1.5,"d":"1.50"},{"v":2,"d":"2.00"},{"v":2,"d":"2.00"},{"v":2.5,"d":"2.50"},{"v":1.5,"d":"1.50"},{"v":2,"d":"2.00"}]
[]
[null,null,"начало года"]
[{"$nulls":3},"всего","норма","ниже нормы","низкий "]
[null,null,"количество детей",{"$f":"COUNTA($C$6:$C$29)","v":3},{"$f":"COUNTIF(R6:R29,\">=3,8\")","v":0},{"$f":"COUNTIFS(R6:R29,\"<3,7\",R6:R29,\">=2,3\")","v":1},{"$f":"COUNTIFS(R6:R29,\"<2,2\",R6:R29,\">0\")","v":0}]
[null,null,"%",100,{"$f":"E34*D35/D34","v":0},{"$f":"F34*D35/D34","v":{"v":33.333333333333336,"d":"33.3"}},{"$f":"G34*D35/D34","v":{"v":0,"d":"0.0"}}]
[]
[]
[null,null,"конец года"]
[{"$nulls":3},"всего","норма","ниже нормы","низкий "]
[null,null,"количество детей",{"$f":"COUNTA($C$6:$C$29)","v":3},{"$f":"COUNTIF(S6:S29,\">=3,8\")","v":1},{"$f":"COUNTIFS(S6:S29,\"<3,7\",S6:S29,\">=2,3\")","v":0},{"$f":"COUNTIFS(S6:S29,\"<2,2\",S6:S29,\">0\")","v":0}]
[null,null,"%",100,{"$f":"E40*D41/D40","v":{"v":33.333333333333336,"d":"33.3"}},{"$f":"F40*D41/D40","v":{"v":0,"d":"0.0"}},{"$f":"G40*D41/D40","v":{"v":0,"d":"0.0"}}]
[]
[]
[]
[null,"НАПРАВЛЕНИЕ 4. ФОРМИРОВАНИЕ ОСНОВ БЕЗОПАСНОСНОГО ПОВЕДЕНИЯ"]
[]
[null,"№п/п","ФИ ребенка","Может опознать специальный транспорт",null,"Знает и называет некоторые дорожные знаки («Дети», «Пешеходный переход»)",null,"Самостоятелен в самообслуживании",null,"Знает правила безопасного поведения                                                        и стремится их выполнять",{"$nulls":7},"среднее значение "]
[{"$nulls":9},"в быту",null,"на улице",null,"в природе",null,"с незнакомыми людьми"]
[{"$nulls":3},"н.г.","к.г.","н.г.","к.г.","н.г.","к.г.","н.г.","к.г.","н.г.","к.г.","н.г.","к.г.","н.г.","к.г.","н.г.","к.г."]
[null,1,"Иванов",2,3,2,3,3,4,3,4,4,5,3,4,4,5,{"$f":"(D50+F50+H50+J50+L50+N50+P50)/7","v":{"v":3,"d":"3.00"}},{"$f":"(E50+G50+I50+K50+M50+O50+Q50)/7","v":{"v":4,"d":"4.00"}}]
[null,2,"Петров",{"$nulls":14},{"v":0,"d":"0.00"},{"v":0,"d":"0.00"}]
[null,3,"Сидоров",{"$nulls":14},{"v":0,"d":"0.00"},{"v":0,"d":"0.00"}]
[null,4,{"$nulls":15},{"v":0,"d":"0.00"},{"v":0,"d":"0.00"}]
[null,5,{"$nulls":15},{"v":0,"d":"0.00"},{"v":0,"d":"0.00"}]
[null,6,{"$nulls":15},{"v":0,"d":"0.00"},{"v":0,"d":"0.00"}]
[null,7,{"$nulls":15},{"v":0,"d":"0.00"},{"v":0,"d":"0.00"}]
[null,8,{"$nulls":15},{"v":0,"d":"0.00"},{"v":0,"d":"0.00"}]
[null,9,{"$nulls":15},{"v":0,"d":"0.00"},{"v":0,"d":"0.00"}]
[null,10,{"$nulls":15},{"v":0,"d":"0.00"},{"v":0,"d":"0.00"}]
[null,11,{"$nulls":15},{"v":0,"d":"0.00"},{"v":0,"d":"0.00"}]
[null,12,{"$nulls":15},{"v":0,"d":"0.00"},{"v":0,"d":"0.00"}]
[null,13,{"$nulls":15},{"v":0,"d":"0.00"},{"v":0,"d":"0.00"}]
[null,14,{"$nulls":15},{"v":0,"d":"0.00"},{"v":0,"d":"0.00"}]
[null,15,{"$nulls":15},{"v":0,"d":"0.00"},{"v":0,"d":"0.00"}]
[null,16,{"$nulls":15},{"v":0,"d":"0.00"},{"v":0,"d":"0.00"}]
[null,17,{"$nulls":15},{"v":0,"d":"0.00"},{"v":0,"d":"0.00"}]
[null,18,{"$nulls":15},{"v":0,"d":"0.00"},{"v":0,"d":"0.00"}]
[null,19,{"$nulls":15},{"v":0,"d":"0.00"},{"v":0,"d":"0.00"}]
[null,20,{"$nulls":15},{"v":0,"d":"0.00"},{"v":0,"d":"0.00"}]
[null,21,{"$nulls":15},{"v":0,"d":"0.00"},{"v":0,"d":"0.00"}]
[null,22,{"$nulls":15},{"v":0,"d":"0.00"},{"v":0,"d":"0.00"}]
[null,23,{"$nulls":15},{"v":0,"d":"0.00"},{"v":0,"d":"0.00"}]
[null,24,{"$nulls":15},{"v":0,"d":"0.00"},{"v":0,"d":"0.00"}]
[null,null,"среднее значение:",{"$f":"(D50+D51+D52+D53+D54+D55+D56+D57+D58+D59+D60+D61+D62+D63+D64+D65+D66+D67+D68+D69+D70+D71+D72+D73)/24","v":{"v":0.08333333333333333,"d":"0.08"}},{"v":0.125,"d":"0.13"},{"v":0.08333333333333333,"d":"0.08"},{"v":0.125,"d":"0.13"},{"v":0.125,"d":"0.13"},{"v":0.16666666666666666,"d":"0.17"},{"v":0.125,"d":"0.13"},{"v":0.16666666666666666,"d":"0.17"},{"v":0.16666666666666666,"d":"0.17"},{"v":0.20833333333333334,"d":"0.21"},{"v":0.125,"d":"0.13"},{"v":0.16666666666666666,"d":"0.17"},{"v":0.16666666666666666,"d":"0.17"},{"v":0.20833333333333334,"d":"0.21"},{"v":0.12499999999999999,"d":"0.13"},{"v":0.16666666666666666,"d":"0.17"}]
[]
[null,null,"начало года"]
[{"$nulls":3},"всего","норма","ниже нормы","низкий "]
[null,null,"количество детей",{"$f":"COUNTA(C50:C73)","v":3},{"$f":"COUNTIF(R50:R73,\">=3,8\")","v":0},{"$f":"COUNTIFS(R50:R73,\"<3,7\",R50:R73,\">=2,3\")","v":1},{"$f":"COUNTIFS(R50:R73,\"<2,2\",R50:R73,\">0\")","v":0}]
[null,null,"%",100,{"$f":"E78*D79/D78","v":0},{"$f":"F78*D79/D78","v":{"v":33.333333333333336,"d":"33.3"}},{"$f":"G78*D79/D78","v":{"v":0,"d":"0.0"}}]
[]
[null,null,"конец года"]
[{"$nulls":3},"всего","норма","ниже нормы","низкий "]
[null,null,"количество детей",{"$f":"COUNTA(C49:C72)","v":3},{"$f":"COUNTIF(S50:S73,\">=3,8\")","v":1},{"$f":"COUNTIFS(S50:S73,\"<3,7\",S50:S73,\">=2,3\")","v":0},{"$f":"COUNTIFS(S50:S73,\"<2,2\",S50:S73,\">0\")","v":0}]
[null,null,"%",100,{"$f":"E83*D84/D83","v":{"v":33.333333333333336,"d":"33.3"}},{"$f":"F83*D84/D83","v":{"v":0,"d":"0.0"}},{"$f":"G83*D84/D83","v":{"v":0,"d":"0.0"}}]

{"sheet":"ИТОГ СК","index":5,"n_rows":45,"n_cols":7,"rows_kept":45,"merged":[[0,0,0,7],[36,0,36,1],[36,2,36,7],[37,2,37,7],[38,2,38,7],[39,2,39,7],[40,2,40,7],[41,2,41,7],[42,2,42,7]]}
["Обобщение результатов педагогической диагностики по направлениям                                                     ОО «Социально-коммуникативное развитие»"]
[]
[null,"ОГЛАВЛЕНИЕ","Формирование общепринятых норм поведения","Формирование основ гражданственности и патриотизма","Трудовое воспитание","Формирование основ безопасного поведения","Средний балл/уровень (итоговый)"]
[null,null,1,2,3,4,"ср.ур."]
[null,"начало",{"$f":"'СК-1'!P32","v":{"v":0.6666666666666666,"d":"0.67"}},{"$f":"'СК-2'!L30","v":{"v":0.8333333333333333,"d":"0.83"}},{"$f":"'СК-3'!R30","v":{"v":1.5,"d":"1.50"}},{"$f":"'СК-3'!R74","v":{"v":0.12499999999999999,"d":"0.13"}},{"$f":"(C5+D5+E5+F5)/4","v":{"v":0.78125,"d":"0.78"}}]
[null,"конец",{"$f":"'СК-1'!Q32","v":{"v":1,"d":"1.00"}},{"$f":"'СК-2'!M30","v":{"v":1.1666666666666665,"d":"1.17"}},{"$f":"'СК-3'!S30","v":{"v":2,"d":"2.00"}},{"$f":"'СК-3'!S74","v":{"v":0.16666666666666666,"d":"0.17"}},{"$f":"(C6+D6+E6+F6)/4","v":{"v":1.0833333333333333,"d":"1.08"}}]
{"$rows_empty":29}
["ВЫВОДЫ:"]
["Начало учебного года:"]
{"$rows_empty":7}
["Конец учебного года:"]

{"sheet":"ПР-1","index":6,"n_rows":41,"n_cols":16,"rows_kept":41,"merged":[[0,0,0,15],[1,13,1,14],[3,0,5,0],[3,1,5,1],[3,2,4,3],[3,4,4,5],[3,6,4,7],[3,8,4,9],[3,10,4,11],[3,12,4,13],[3,14,4,15]]}
["Образовательная область «Познавательное развитие»"]
["НАПРАВЛЕНИЕ 1. СЕНСОРНЫЕ ЭТАЛОНЫ И ПОЗНАВАТЕЛЬНЫЕ ДЕЙСТВИЯ. ",{"$nulls":12},"ОГЛАВЛЕНИЕ"]
[]
["№п/п","ФИ ребенка","Различает и называет цвета (красный, синий, зеленый, желтый, белый, черный)",null,"Называет оттенки цветов (розовый, голубой, серый). В конце года - коричневый, оранжевый, светло-зеленый",null,"Различает и называет форму окружающих предметов, используя сенсорные эталоны геометрических фигур (круг, квадрат, овал, прямоугольник, треугольник)",null,"Умеет находить отличия и сходство между предметами по 2-3 признакам (сравнение, группировка, классификация, сериация)",null,"Называет свойства и качества предметов, особенности объектов природы, обследовательские действия",null,"Может объединять предметы и объекты в видовые категории с указанием характерных признаков (животные, одежда, обувь, мебель, посуда, деревья)",null,"среднее значение "]
[]
[null,null,"н.г.","к.г.","н.г.","к.г.","н.г.","к.г.","н.г.","к.г.","н.г.","к.г.","н.г.","к.г.","н.г.","к.г."]
[1,"Иванов",2,3,2,3,4,5,3,4,3,4,3,4,{"$f":"(C7+E7+G7+I7+K7+M7)/6","v":{"v":2.8333333333333335,"d":"2.83"}},{"$f":"(D7+F7+H7+J7+L7+N7)/6","v":{"v":3.8333333333333335,"d":"3.83"}}]
[2,"Петров",{"$nulls":12},{"$f":"(C8+E8+G8+I8+K8+M8)/6","v":{"v":0,"d":"0.00"}},{"$f":"(D8+F8+H8+J8+L8+N8)/6","v":{"v":0,"d":"0.00"}}]
[3,"Сидоров",{"$nulls":12},{"v":0,"d":"0.00"},{"v":0,"d":"0.00"}]
[4,{"$nulls":13},{"v":0,"d":"0.00"},{"v":0,"d":"0.00"}]
[5,{"$nulls":13},{"v":0,"d":"0.00"},{"v":0,"d":"0.00"}]
[6,{"$nulls":13},{"v":0,"d":"0.00"},{"v":0,"d":"0.00"}]
[7,{"$nulls":13},{"v":0,"d":"0.00"},{"v":0,"d":"0.00"}]
[8,{"$nulls":13},{"v":0,"d":"0.00"},{"v":0,"d":"0.00"}]
[9,{"$nulls":13},{"v":0,"d":"0.00"},{"v":0,"d":"0.00"}]
[10,{"$nulls":13},{"v":0,"d":"0.00"},{"v":0,"d":"0.00"}]
[11,{"$nulls":13},{"v":0,"d":"0.00"},{"v":0,"d":"0.00"}]
[12,{"$nulls":13},{"v":0,"d":"0.00"},{"v":0,"d":"0.00"}]
[13,{"$nulls":13},{"v":0,"d":"0.00"},{"v":0,"d":"0.00"}]
[14,{"$nulls":13},{"v":0,"d":"0.00"},{"v":0,"d":"0.00"}]
[15,{"$nulls":13},{"v":0,"d":"0.00"},{"v":0,"d":"0.00"}]
[16,{"$nulls":13},{"v":0,"d":"0.00"},{"v":0,"d":"0.00"}]
[17,{"$nulls":13},{"v":0,"d":"0.00"},{"v":0,"d":"0.00"}]
[18,{"$nulls":13},{"v":0,"d":"0.00"},{"v":0,"d":"0.00"}]
[19,{"$nulls":13},{"v":0,"d":"0.00"},{"v":0,"d":"0.00"}]
[20,{"$nulls":13},{"v":0,"d":"0.00"},{"v":0,"d":"0.00"}]
[21,{"$nulls":13},{"v":0,"d":"0.00"},{"v":0,"d":"0.00"}]
[22,{"$nulls":13},{"v":0,"d":"0.00"},{"v":0,"d":"0.00"}]
[23,{"$nulls":13},{"v":0,"d":"0.00"},{"v":0,"d":"0.00"}]
[24,{"$nulls":13},{"v":0,"d":"0.00"},{"v":0,"d":"0.00"}]
[null,"среднее значение:",{"$f":"(C7+C8+C9+C10+C11+C12+C13+C14+C15+C16+C17+C18+C19+C20+C21+C22+C23+C24+C25+C26+C27+C28+C29+C30)/COUNTA($B$7:$B$30)","v":{"v":0.6666666666666666,"d":"0.67"}},{"$f":"(D7+D8+D9+D10+D11+D12+D13+D14+D15+D16+D17+D18+D19+D20+D21+D22+D23+D24+D25+D26+D27+D28+D29+D30)/COUNTA($B$7:$B$30)","v":{"v":1,"d":"1.00"}},{"v":0.6666666666666666,"d":"0.67"},{"v":1,"d":"1.00"},{"v":1.3333333333333333,"d":"1.33"},{"v":1.6666666666666667,"d":"1.67"},{"v":1,"d":"1.00"},{"v":1.3333333333333333,"d":"1.33"},{"v":1,"d":"1.00"},{"v":1.3333333333333333,"d":"1.33"},{"v":1,"d":"1.00"},{"v":1.3333333333333333,"d":"1.33"},{"v":0.9444444444444443,"d":"0.94"},{"v":1.2777777777777777,"d":"1.28"}]
[]
[null,"начало года"]
[null,null,"всего","норма","ниже нормы","низкий "]
[null,"количество детей",{"$f":"COUNTA($B$7:$B$30)","v":3},{"$f":"COUNTIF(O7:O30,\">=3,8\")","v":0},{"$f":"COUNTIFS(O7:O30,\"<3,7\",O7:O30,\">=2,3\")","v":1},{"$f":"COUNTIFS(O7:O30,\"<2,2\",O7:O30,\">0\")","v":0}]
[null,"%",100,{"$f":"D35*C36/C35","v":0},{"$f":"E35*C36/C35","v":{"v":33.333333333333336,"d":"33.3"}},{"$f":"F35*C36/C35","v":{"v":0,"d":"0.0"}}]
[]
[null,"конец года"]
[null,null,"всего","норма","ниже нормы","низкий "]
[null,"количество детей",{"$f":"COUNTA(B7:B30)","v":3},{"$f":"COUNTIF(P7:P30,\">=3,8\")","v":1},{"$f":"COUNTIFS(P7:P30,\"<3,7\",P7:P30,\">=2,3\")","v":0},{"$f":"COUNTIFS(P7:P30,\"<2,2\",P7:P30,\">0\")","v":0}]
[null,"%",100,{"$f":"D40*C41/C40","v":{"v":33.333333333333336,"d":"33.3"}},{"$f":"E40*C41/C40","v":{"v":0,"d":"0.0"}},{"$f":"F40*C41/C40","v":{"v":0,"d":"0.0"}}]

{"sheet":"ПР-2","index":7,"n_rows":40,"n_cols":24,"rows_kept":40,"merged":[[0,20,0,21],[2,0,4,0],[2,1,4,1],[2,2,3,3],[2,4,3,5],[2,6,3,7],[2,8,2,11],[2,12,3,13],[2,14,3,15],[2,16,3,17],[2,18,3,19],[2,20,3,21],[2,22,3,23],[3,8,3,9],[3,10,3,11]]}
["НАПРАВЛЕНИЕ 2. МАТЕМАТИЧЕСКИЕ ПРЕДСТАВЛЕНИЯ.",{"$nulls":19},"ОГЛАВЛЕНИЕ"]
[]
["№п/п","ФИ ребенка","Ориентируется в пространстве (на себе, на другом человеке, от предмета, на плоскости)",null,"Различает круг, квадрат, треугольник, прямоугольник",null,"Понимает смысл слов «утро», «вечер», «день», «ночь», определяет части суток, называет времена года, их признаки, последовательность",null,"Владеет навыком счета в прямом порядке до 5",{"$nulls":3},"Пересчитывает предметы и отсчитывает их по образцу и названному числу",null,"Умеет группировать предметы по цвету, размеру, форме, назначению",null,"Различает части суток, знает их последовательность, понимает временную последовательность - \"вчера, сегодня, завтра\"",null,"Умеет сравнивать предметы по форме и величине",null,"Умеет определять пространственные отношения - вперед, назад, вниз, налево, направо",null,"среднее значение "]
[{"$nulls":8},"количественного счета",null,"порядкового счета"]
[null,null,"н.г.","к.г.","н.г.","к.г.","н.г.","к.г.","н.г.","к.г.","н.г.","к.г.","н.г.","к.г.","н.г.","к.г.","н.г.","к.г.","н.г.","к.г.","н.г.","к.г.","н.г.","к.г."]
[1,"Иванов",{"$nulls":20},{"$f":"(C6+E6+G6+I6+K6+M6+O6+Q6+S6+U6)/10","v":{"v":0,"d":"0.00"}},{"$f":"(D6+F6+H6+J6+L6+N6+P6+R6+T6+V6)/10","v":{"v":0,"d":"0.00"}}]
[2,"Петров",{"$nulls":20},{"$f":"(C7+E7+G7+I7+K7+M7+O7+Q7+S7+U7)/10","v":{"v":0,"d":"0.00"}},{"$f":"(D7+F7+H7+J7+L7+N7+P7+R7+T7+V7)/10","v":{"v":0,"d":"0.00"}}]
[3,"Сидоров",{"$nulls":20},{"v":0,"d":"0.00"},{"v":0,"d":"0.00"}]
[4,{"$nulls":21},{"v":0,"d":"0.00"},{"v":0,"d":"0.00"}]
[5,{"$nulls":21},{"v":0,"d":"0.00"},{"v":0,"d":"0.00"}]
[6,{"$nulls":21},{"v":0,"d":"0.00"},{"v":0,"d":"0.00"}]
[7,{"$nulls":21},{"v":0,"d":"0.00"},{"v":0,"d":"0.00"}]
[8,{"$nulls":21},{"v":0,"d":"0.00"},{"v":0,"d":"0.00"}]
[9,{"$nulls":21},{"v":0,"d":"0.00"},{"v":0,"d":"0.00"}]
[10,{"$nulls":21},{"v":0,"d":"0.00"},{"v":0,"d":"0.00"}]
[11,{"$nulls":21},{"v":0,"d":"0.00"},{"v":0,"d":"0.00"}]
[12,{"$nulls":21},{"v":0,"d":"0.00"},{"v":0,"d":"0.00"}]
[13,{"$nulls":21},{"v":0,"d":"0.00"},{"v":0,"d":"0.00"}]
[14,{"$nulls":21},{"v":0,"d":"0.00"},{"v":0,"d":"0.00"}]
[15,{"$nulls":21},{"v":0,"d":"0.00"},{"v":0,"d":"0.00"}]
[16,{"$nulls":21},{"v":0,"d":"0.00"},{"v":0,"d":"0.00"}]
[17,{"$nulls":21},{"v":0,"d":"0.00"},{"v":0,"d":"0.00"}]
[18,{"$nulls":21},{"v":0,"d":"0.00"},{"v":0,"d":"0.00"}]
[19,{"$nulls":21},{"v":0,"d":"0.00"},{"v":0,"d":"0.00"}]
[20,{"$nulls":21},{"v":0,"d":"0.00"},{"v":0,"d":"0.00"}]
[21,{"$nulls":21},{"v":0,"d":"0.00"},{"v":0,"d":"0.00"}]
[22,{"$nulls":21},{"v":0,"d":"0.00"},{"v":0,"d":"0.00"}]
[23,{"$nulls":21},{"v":0,"d":"0.00"},{"v":0,"d":"0.00"}]
[24,{"$nulls":21},{"v":0,"d":"0.00"},{"v":0,"d":"0.00"}]
[null,"среднее значение:",{"$f":"(C6+C7+C8+C9+C10+C11+C12+C13+C14+C15+C16+C17+C18+C19+C20+C21+C22+C23+C24+C25+C26+C27+C28+C29)/COUNTA($B$6:$B$29)","v":{"v":0,"d":"0.00"}},{"$f":"(D6+D7+D8+D9+D10+D11+D12+D13+D14+D15+D16+D17+D18+D19+D20+D21+D22+D23+D24+D25+D26+D27+D28+D29)/COUNTA($B$6:$B$29)","v":{"v":0,"d":"0.00"}},{"v":0,"d":"0.00"},{"v":0,"d":"0.00"},{"v":0,"d":"0.00"},{"v":0,"d":"0.00"},{"v":0,"d":"0.00"},{"v":0,"d":"0.00"},{"v":0,"d":"0.00"},{"v":0,"d":"0.00"},{"v":0,"d":"0.00"},{"v":0,"d":"0.00"},{"v":0,"d":"0.00"},{"v":0,"d":"0.00"},{"v":0,"d":"0.00"},{"v":0,"d":"0.00"},{"v":0,"d":"0.00"},{"v":0,"d":"0.00"},{"v":0,"d":"0.00"},{"v":0,"d":"0.00"},{"v":0,"d":"0.00"},{"v":0,"d":"0.00"}]
[]
[null,"начало года"]
[null,null,"всего","норма","ниже нормы","низкий "]
[null,"количество детей",{"$f":"COUNTA($B$6:$B$29)","v":3},{"$f":"COUNTIF(W6:W29,\">=3,8\")","v":0},{"$f":"COUNTIFS(W6:W29,\"<3,7\",W6:W29,\">=2,3\")","v":0},{"$f":"COUNTIFS(W6:W29,\"<2,2\",W6:W29,\">0\")","v":0}]
[null,"%",100,{"$f":"D34*C35/C34","v":0},{"$f":"E34*C35/C34","v":{"v":0,"d":"0.0"}},{"$f":"F34*C35/C34","v":{"v":0,"d":"0.0"}}]
[]
[null,"конец года"]
[null,null,"всего","норма","ниже нормы","низкий "]
[null,"количество детей",{"$f":"COUNTA(B6:B29)","v":3},{"$f":"COUNTIF(X6:X29,\">=3,8\")","v":0},{"$f":"COUNTIFS(X6:X29,\"<3,7\",X6:X29,\">=2,3\")","v":0},{"$f":"COUNTIFS(X6:X29,\"<2,2\",X6:X29,\">0\")","v":0}]
[null,"%",100,{"$f":"D39*C40/C39","v":{"v":0,"d":"0.0"}},{"$f":"E39*C40/C39","v":{"v":0,"d":"0.0"}},{"$f":"F39*C40/C39","v":{"v":0,"d":"0.0"}}]

{"sheet":"ПР-3","index":8,"n_rows":40,"n_cols":20,"rows_kept":40,"merged":[[0,16,0,17],[2,0,4,0],[2,1,4,1],[2,2,3,3],[2,4,3,5],[2,6,3,7],[2,8,3,9],[2,10,3,11],[2,12,3,13],[2,14,3,15],[2,16,3,17],[2,18,3,19]]}
["НАПРАВЛЕНИЕ 3. ОКРУЖАЮЩИЙ МИР. ПРИРОДА.",{"$nulls":15},"ОГЛАВЛЕНИЕ"]
[]
["№п/п","ФИ ребенка","Называет диких и домашних животных, одежду, обувь, мебель, посуду, деревья",null,"Знает о значении солнца, воздуха, воды для человека",null,"Ориентируется в пространстве (на себе, на другом человеке, от предмета, на плоскости)",null,"Стремится самостоятельно ухаживать за растениямии животными, беречь их",null,"Знает название своей республики (области, края) в которой проживает",null,"Сравнивает объекты живой природы на основе признаков (дикие-домашние, хищные-травоядные, перелетные-зимующие, деревья-кустарники, травы-цветы,растения, овощи-фрукты, грибы-ягоды и т.д.) ",null,"Знает и называет объекты и свойства неживой природы (камни, песок, глина, вода)",null,"Знает явления природы в разные сезоны (листопад, ледоход, голодед, град, ветер)",null,"среднее значение "]
[]
[null,null,"н.г.","к.г.","н.г.","к.г.","н.г.","к.г.","н.г.","к.г.","н.г.","к.г.","н.г.","к.г.","н.г.","к.г.","н.г.","к.г.","н.г.","к.г."]
[1,"Иванов",{"$nulls":16},{"$f":"(C6+E6+G6+I6+K6+M6+O6+Q6)/8","v":{"v":0,"d":"0.00"}},{"$f":"(D6+F6+H6+J6+L6+N6+P6+R6)/8","v":{"v":0,"d":"0.00"}}]
[2,"Петров",{"$nulls":16},{"$f":"(C7+E7+G7+I7+K7+M7+O7+Q7)/8","v":{"v":0,"d":"0.00"}},{"$f":"(D7+F7+H7+J7+L7+N7+P7+R7)/8","v":{"v":0,"d":"0.00"}}]
[3,"Сидоров",{"$nulls":16},{"v":0,"d":"0.00"},{"v":0,"d":"0.00"}]
[4,{"$nulls":17},{"v":0,"d":"0.00"},{"v":0,"d":"0.00"}]
[5,{"$nulls":17},{"v":0,"d":"0.00"},{"v":0,"d":"0.00"}]
[6,{"$nulls":17},{"v":0,"d":"0.00"},{"v":0,"d":"0.00"}]
[7,{"$nulls":17},{"v":0,"d":"0.00"},{"v":0,"d":"0.00"}]
[8,{"$nulls":17},{"v":0,"d":"0.00"},{"v":0,"d":"0.00"}]
[9,{"$nulls":17},{"v":0,"d":"0.00"},{"v":0,"d":"0.00"}]
[10,{"$nulls":17},{"v":0,"d":"0.00"},{"v":0,"d":"0.00"}]
[11,{"$nulls":17},{"v":0,"d":"0.00"},{"v":0,"d":"0.00"}]
[12,{"$nulls":17},{"v":0,"d":"0.00"},{"v":0,"d":"0.00"}]
[13,{"$nulls":17},{"v":0,"d":"0.00"},{"v":0,"d":"0.00"}]
[14,{"$nulls":17},{"v":0,"d":"0.00"},{"v":0,"d":"0.00"}]
[15,{"$nulls":17},{"v":0,"d":"0.00"},{"v":0,"d":"0.00"}]
[16,{"$nulls":17},{"v":0,"d":"0.00"},{"v":0,"d":"0.00"}]
[17,{"$nulls":17},{"v":0,"d":"0.00"},{"v":0,"d":"0.00"}]
[18,{"$nulls":17},{"v":0,"d":"0.00"},{"v":0,"d":"0.00"}]
[19,{"$nulls":17},{"v":0,"d":"0.00"},{"v":0,"d":"0.00"}]
[20,{"$nulls":17},{"v":0,"d":"0.00"},{"v":0,"d":"0.00"}]
[21,{"$nulls":17},{"v":0,"d":"0.00"},{"v":0,"d":"0.00"}]
[22,{"$nulls":17},{"v":0,"d":"0.00"},{"v":0,"d":"0.00"}]
[23,{"$nulls":17},{"v":0,"d":"0.00"},{"v":0,"d":"0.00"}]
[24,{"$nulls":17},{"v":0,"d":"0.00"},{"v":0,"d":"0.00"}]
[null,"среднее значение:",{"$f":"(C6+C7+C8+C9+C10+C11+C12+C13+C14+C15+C16+C17+C18+C19+C20+C21+C22+C23+C24+C25+C26+C27+C28+C29)/COUNTA($B$6:$B$29)","v":{"v":0,"d":"0.00"}},{"$f":"(D6+D7+D8+D9+D10+D11+D12+D13+D14+D15+D16+D17+D18+D19+D20+D21+D22+D23+D24+D25+D26+D27+D28+D29)/COUNTA($B$6:$B$29)","v":{"v":0,"d":"0.00"}},{"v":0,"d":"0.00"},{"v":0,"d":"0.00"},{"v":0,"d":"0.00"},{"v":0,"d":"0.00"},{"v":0,"d":"0.00"},{"v":0,"d":"0.00"},{"v":0,"d":"0.00"},{"v":0,"d":"0.00"},{"v":0,"d":"0.00"},{"v":0,"d":"0.00"},{"v":0,"d":"0.00"},{"v":0,"d":"0.00"},{"v":0,"d":"0.00"},{"v":0,"d":"0.00"},{"v":0,"d":"0.00"},{"v":0,"d":"0.00"}]
[]
[null,"начало года"]
[null,null,"всего","норма","ниже нормы","низкий "]
[null,"количество детей",{"$f":"COUNTA($B$6:$B$29)","v":3},{"$f":"COUNTIF(S6:S29,\">=3,8\")","v":0},{"$f":"COUNTIFS(S6:S29,\"<3,7\",S6:S29,\">=2,3\")","v":0},{"$f":"COUNTIFS(S6:S29,\"<2,2\",S6:S29,\">0\")","v":0}]
[null,"%",100,{"$f":"D34*C35/C34","v":0},{"$f":"E34*C35/C34","v":{"v":0,"d":"0.0"}},{"$f":"F34*C35/C34","v":{"v":0,"d":"0.0"}}]
[]
[null,"конец года"]
[null,null,"всего","норма","ниже нормы","низкий "]
[null,"количество детей",{"$f":"COUNTA(B6:B29)","v":3},{"$f":"COUNTIF(T6:T29,\">=3,8\")","v":0},{"$f":"COUNTIFS(T6:T29,\"<3,7\",T6:T29,\">=2,3\")","v":0},{"$f":"COUNTIFS(T6:T29,\"<2,2\",T6:T29,\">0\")","v":0}]
[null,"%",100,{"$f":"D39*C40/C39","v":{"v":0,"d":"0.0"}},{"$f":"E39*C40/C39","v":{"v":0,"d":"0.0"}},{"$f":"F39*C40/C39","v":{"v":0,"d":"0.0"}}]

{"sheet":"ИТОГ ПР","index":9,"n_rows":36,"n_cols":6,"rows_kept":36,"merged":[[0,0,0,6],[27,0,27,1],[27,3,27,6],[28,3,28,6],[29,3,29,6],[30,3,30,6],[31,3,31,6],[32,3,32,6],[33,3,33,6],[35,0,35,1],[35,3,35,6],[36,3,36,6],[37,3,37,6],[38,3,38,6],[39,3,39,6],[40,3,40,6],[41,3,41,6]]}
["Обобщение результатов педагогической диагностики по направлениям                                               ОО «Познавательное развитие»"]
[]
[null,"ОГЛАВЛЕНИЕ","Сенсорные эталоны и познавательные действия","Математические представления","Окружающий мир. Природа","Средний уровень развития"]
[null,null,1,2,3,"ср.ур."]
[null,"начало",{"$f":"'ПР-1'!O31","v":{"v":0.9444444444444443,"d":"0.94"}},{"$f":"'ПР-2'!W30","v":{"v":0,"d":"0.00"}},{"$f":"'ПР-3'!S30","v":{"v":0,"d":"0.00"}},{"$f":"(C5+D5+E5)/3","v":{"v":0.31481481481481477,"d":"0.31"}}]
[null,"конец",{"$f":"'ПР-1'!P31","v":{"v":1.2777777777777777,"d":"1.28"}},{"$f":"'ПР-2'!X30","v":{"v":0,"d":"0.00"}},{"$f":"'ПР-3'!T30","v":{"v":0,"d":"0.00"}},{"$f":"(C6+D6+E6)/3","v":{"v":0.4259259259259259,"d":"0.43"}}]
{"$rows_empty":20}
["ВЫВОДЫ:"]
["Начало учебного года:"]
{"$rows_empty":7}
["Конец учебного года:"]

{"sheet":"РР-1","index":10,"n_rows":41,"n_cols":35,"rows_kept":41,"merged":[[0,1,0,34],[1,23,1,24],[3,1,5,1],[3,2,5,2],[3,3,4,4],[3,5,4,6],[3,7,4,8],[3,9,4,10],[3,11,4,12],[3,13,3,24],[3,25,4,26],[3,27,3,32],[3,33,4,34],[4,13,4,14],[4,15,4,16],[4,17,4,18],[4,19,4,20],[4,21,4,22],[4,23,4,24],[4,27,4,28],[4,29,4,30],[4,31,4,32]]}
[null,"Образовательная область «Речевое развитие»"]
[null,"НАПРАВЛЕНИЕ I. ФОРМИРОВАНИЕ СЛОВАРЯ",{"$nulls":21},"ОГЛАВЛЕНИЕ"]
[]
[null,"№п/п","ФИ ребенка","Правильно использует в речи существительные, обозначающие  названия частей и деталей предметов",null,"Использует в речи названия предметов и материалов, из которых они изготовлены",null,"Понимает и использует прилагательные, обозначающие свойства предметов",null,"Употребляет слова, обозначающие некоторые родовые и видовые обобщения, признаки",null,"Понимает и использует прилагательные, обозначающие свойства предметов",null,"Использует в речи",{"$nulls":11},"Активен в разговоре, использует разные типы реплик и простые формы объяснительной речи, речевые контакты более длительные и активные",null,"Использует обобщающие слова",{"$nulls":5},"среднее значение "]
[{"$nulls":13},"вкусовые качества",null,"цветовые оттенки",null,"названия предметов и материалов, из которых они изготовлены",null,"названия живых существ и сред их обитания",null,"слова, обозначающие части предметов, объектов и явлений природы, их свойства и качества",null,"наиболее употребительные глаголы",{"$nulls":3},"игрушки",null,"фрукты",null,"домашние животные"]
[{"$nulls":3},"н.г.","к.г.","н.г.","к.г.","н.г.","к.г.","н.г.","к.г.","н.г.","к.г.","н.г.","к.г.","н.г.","к.г.","н.г.","к.г.","н.г.","к.г.","н.г.","к.г.","н.г.","к.г.","н.г.","к.г.","н.г.","к.г.","н.г.","к.г.","н.г.","к.г.","н.г.","к.г."]
[null,1,"Иванов",{"$nulls":30},{"$f":"(D7+F7+H7+J7+L7+N7+P7+R7+T7+V7+X7+Z7+AB7+AD7+AF7)/15","v":{"v":0,"d":"0.00"}},{"$f":"(E7+G7+I7+K7+M7+O7+Q7+S7+U7+W7+Y7+AA7+AC7+AE7+AG7)/15","v":{"v":0,"d":"0.00"}}]
[null,2,"Петров",{"$nulls":30},{"$f":"(D8+F8+H8+J8+L8+N8+P8+R8+T8+V8+X8+Z8+AB8+AD8+AF8)/15","v":{"v":0,"d":"0.00"}},{"v":0,"d":"0.00"}]
[null,3,"Сидоров",{"$nulls":30},{"v":0,"d":"0.00"},{"v":0,"d":"0.00"}]
[null,4,{"$nulls":31},{"v":0,"d":"0.00"},{"v":0,"d":"0.00"}]
[null,5,{"$nulls":31},{"v":0,"d":"0.00"},{"v":0,"d":"0.00"}]
[null,6,{"$nulls":31},{"v":0,"d":"0.00"},{"v":0,"d":"0.00"}]
[null,7,{"$nulls":31},{"v":0,"d":"0.00"},{"v":0,"d":"0.00"}]
[null,8,{"$nulls":31},{"v":0,"d":"0.00"},{"v":0,"d":"0.00"}]
[null,9,{"$nulls":31},{"v":0,"d":"0.00"},{"v":0,"d":"0.00"}]
[null,10,{"$nulls":31},{"v":0,"d":"0.00"},{"v":0,"d":"0.00"}]
[null,11,{"$nulls":31},{"v":0,"d":"0.00"},{"v":0,"d":"0.00"}]
[null,12,{"$nulls":31},{"v":0,"d":"0.00"},{"v":0,"d":"0.00"}]
[null,13,{"$nulls":31},{"v":0,"d":"0.00"},{"v":0,"d":"0.00"}]
[null,14,{"$nulls":31},{"v":0,"d":"0.00"},{"v":0,"d":"0.00"}]
[null,15,{"$nulls":31},{"v":0,"d":"0.00"},{"v":0,"d":"0.00"}]
[null,16,{"$nulls":31},{"v":0,"d":"0.00"},{"v":0,"d":"0.00"}]
[null,17,{"$nulls":31},{"v":0,"d":"0.00"},{"v":0,"d":"0.00"}]
[null,18,{"$nulls":31},{"v":0,"d":"0.00"},{"v":0,"d":"0.00"}]
[null,19,{"$nulls":31},{"v":0,"d":"0.00"},{"v":0,"d":"0.00"}]
[null,20,{"$nulls":31},{"v":0,"d":"0.00"},{"v":0,"d":"0.00"}]
[null,21,{"$nulls":31},{"v":0,"d":"0.00"},{"v":0,"d":"0.00"}]
[null,22,{"$nulls":31},{"v":0,"d":"0.00"},{"v":0,"d":"0.00"}]
[null,23,{"$nulls":31},{"v":0,"d":"0.00"},{"v":0,"d":"0.00"}]
[null,24,{"$nulls":31},{"v":0,"d":"0.00"},{"v":0,"d":"0.00"}]
[null,null,"среднее значение:",{"$f":"(D7+D8+D9+D10+D11+D12+D13+D14+D15+D16+D17+D18+D19+D20+D21+D22+D23+D24+D25+D26+D27+D28+D29+D30)/COUNTA($C$7:$C$30)","v":{"v":0,"d":"0.00"}},{"$f":"(E7+E8+E9+E10+E11+E12+E13+E14+E15+E16+E17+E18+E19+E20+E21+E22+E23+E24+E25+E26+E27+E28+E29+E30)/24","v":{"v":0,"d":"0.00"}},{"$f":"(F7+F8+F9+F10+F11+F12+F13+F14+F15+F16+F17+F18+F19+F20+F21+F22+F23+F24+F25+F26+F27+F28+F29+F30)/24","v":{"v":0,"d":"0.00"}},{"$f":"(G7+G8+G9+G10+G11+G12+G13+G14+G15+G16+G17+G18+G19+G20+G21+G22+G23+G24+G25+G26+G27+G28+G29+G30)/24","v":{"v":0,"d":"0.00"}},{"v":0,"d":"0.00"},{"v":0,"d":"0.00"},{"v":0,"d":"0.00"},{"v":0,"d":"0.00"},{"v":0,"d":"0.00"},{"v":0,"d":"0.00"},{"v":0,"d":"0.00"},{"v":0,"d":"0.00"},{"v":0,"d":"0.00"},{"v":0,"d":"0.00"},{"v":0,"d":"0.00"},{"v":0,"d":"0.00"},{"v":0,"d":"0.00"},{"v":0,"d":"0.00"},{"v":0,"d":"0.00"},{"v":0,"d":"0.00"},{"v":0,"d":"0.00"},{"v":0,"d":"0.00"},{"v":0,"d":"0.00"},{"v":0,"d":"0.00"},{"v":0,"d":"0.00"},{"v":0,"d":"0.00"},{"v":0,"d":"0.00"},{"v":0,"d":"0.00"},{"v":0,"d":"0.00"},{"v":0,"d":"0.00"},{"v":0,"d":"0.00"},{"v":0,"d":"0.00"}]
[]
[null,null,"начало года"]
[{"$nulls":3},"всего","норма","ниже нормы","низкий "]
[null,null,"количество детей",{"$f":"COUNTA($C$7:$C$30)","v":3},{"$f":"COUNTIF(AH7:AH30,\">=3,8\")","v":0},{"$f":"COUNTIFS(AH7:AH30,\"<3,7\",AH7:AH30,\">=2,3\")","v":0},{"$f":"COUNTIFS(AH7:AH30,\"<2,2\",AH7:AH30,\">0\")","v":0}]
[null,null,"%",100,{"$f":"E35*D36/D35","v":0},{"$f":"F35*D36/D35","v":{"v":0,"d":"0.0"}},{"$f":"G35*D36/D35","v":{"v":0,"d":"0.0"}}]
[]
[null,null,"конец года"]
[{"$nulls":3},"всего","норма","ниже нормы","низкий "]
[null,null,"количество детей",{"$f":"COUNTA(C7:C30)","v":3},{"$f":"COUNTIF(AI7:AI30,\">=3,8\")","v":0},{"$f":"COUNTIFS(AI7:AI30,\"<3,7\",AI7:AI30,\">=2,3\")","v":0},{"$f":"COUNTIFS(AI7:AI30,\"<2,2\",AI7:AI30,\">0\")","v":0}]
[null,null,"%",100,{"$f":"E40*D41/D40","v":{"v":0,"d":"0.0"}},{"$f":"F40*D41/D40","v":{"v":0,"d":"0.0"}},{"$f":"G40*D41/D40","v":{"v":0,"d":"0.0"}}]

{"sheet":"РР-2","index":11,"n_rows":40,"n_cols":21,"rows_kept":40,"merged":[[0,15,0,16],[2,1,4,1],[2,2,4,2],[2,3,2,8],[2,9,3,10],[2,11,3,12],[2,13,3,14],[2,15,3,16],[2,17,3,18],[2,19,3,20],[3,3,3,4],[3,5,3,6],[3,7,3,8]]}
[null,"НАПРАВЛЕНИЕ 2. ГРАММАТИЧЕСКИЙ СТРОЙ РЕЧИ.",{"$nulls":13},"ОГЛАВЛЕНИЕ"]
[]
[null,"№п/п","ФИ ребенка","Образует и использует в речи существительные",{"$nulls":5},"Умеет правильно согласовывать слова в предложении",null,"Употребляет формы повелительного наклонения глаголов",null,"Использует простые сложносочиненные и сложноподчиненные предложения",null,"Правильно понимает и употребляет предлоги с пространственными значениями (в. под, между, около)",null,"Правильно образовывает предметы посуды",null,"среднее значение "]
[{"$nulls":3},"множественного числа",null,"в Именительном и Родительном падежах",null,"множественного числа в Родительном падеже"]
[{"$nulls":3},"н.г.","к.г.","н.г.","к.г.","н.г.","к.г.","н.г.","к.г.","н.г.","к.г.","н.г.","к.г.","н.г.","к.г.","н.г.","к.г.","н.г.","к.г."]
[null,1,"Иванов",{"$nulls":16},{"$f":"(D6+F6+H6+J6+L6+N6+P6+R6)/8","v":{"v":0,"d":"0.00"}},{"$f":"(E6+G6+I6+K6+M6+O6+Q6+S6)/8","v":{"v":0,"d":"0.00"}}]
[null,2,"Петров",{"$nulls":16},{"$f":"(D7+F7+H7+J7+L7+N7+P7+R7)/8","v":{"v":0,"d":"0.00"}},{"$f":"(E7+G7+I7+K7+M7+O7+Q7+S7)/8","v":{"v":0,"d":"0.00"}}]
[null,3,"Сидоров",{"$nulls":16},{"v":0,"d":"0.00"},{"v":0,"d":"0.00"}]
[null,4,{"$nulls":17},{"v":0,"d":"0.00"},{"v":0,"d":"0.00"}]
[null,5,{"$nulls":17},{"v":0,"d":"0.00"},{"v":0,"d":"0.00"}]
[null,6,{"$nulls":17},{"v":0,"d":"0.00"},{"v":0,"d":"0.00"}]
[null,7,{"$nulls":17},{"v":0,"d":"0.00"},{"v":0,"d":"0.00"}]
[null,8,{"$nulls":17},{"v":0,"d":"0.00"},{"v":0,"d":"0.00"}]
[null,9,{"$nulls":17},{"v":0,"d":"0.00"},{"v":0,"d":"0.00"}]
[null,10,{"$nulls":17},{"v":0,"d":"0.00"},{"v":0,"d":"0.00"}]
[null,11,{"$nulls":17},{"v":0,"d":"0.00"},{"v":0,"d":"0.00"}]
[null,12,{"$nulls":17},{"v":0,"d":"0.00"},{"v":0,"d":"0.00"}]
[null,13,{"$nulls":17},{"v":0,"d":"0.00"},{"v":0,"d":"0.00"}]
[null,14,{"$nulls":17},{"v":0,"d":"0.00"},{"v":0,"d":"0.00"}]
[null,15,{"$nulls":17},{"v":0,"d":"0.00"},{"v":0,"d":"0.00"}]
[null,16,{"$nulls":17},{"v":0,"d":"0.00"},{"v":0,"d":"0.00"}]
[null,17,{"$nulls":17},{"v":0,"d":"0.00"},{"v":0,"d":"0.00"}]
[null,18,{"$nulls":17},{"v":0,"d":"0.00"},{"v":0,"d":"0.00"}]
[null,19,{"$nulls":17},{"v":0,"d":"0.00"},{"v":0,"d":"0.00"}]
[null,20,{"$nulls":17},{"v":0,"d":"0.00"},{"v":0,"d":"0.00"}]
[null,21,{"$nulls":17},{"v":0,"d":"0.00"},{"v":0,"d":"0.00"}]
[null,22,{"$nulls":17},{"v":0,"d":"0.00"},{"v":0,"d":"0.00"}]
[null,23,{"$nulls":17},{"v":0,"d":"0.00"},{"v":0,"d":"0.00"}]
[null,24,{"$nulls":17},{"v":0,"d":"0.00"},{"v":0,"d":"0.00"}]
[null,null,"среднее значение:",{"$f":"(D6+D7+D8+D9+D10+D11+D12+D13+D14+D15+D16+D17+D18+D19+D20+D21+D22+D23+D24+D25+D26+D27+D28+D29)/COUNTA($C$6:$C$29)","v":{"v":0,"d":"0.00"}},{"$f":"(E6+E7+E8+E9+E10+E11+E12+E13+E14+E15+E16+E17+E18+E19+E20+E21+E22+E23+E24+E25+E26+E27+E28+E29)/COUNTA($C$6:$C$29)","v":{"v":0,"d":"0.00"}},{"v":0,"d":"0.00"},{"v":0,"d":"0.00"},{"v":0,"d":"0.00"},{"v":0,"d":"0.00"},{"v":0,"d":"0.00"},{"v":0,"d":"0.00"},{"v":0,"d":"0.00"},{"v":0,"d":"0.00"},{"v":0,"d":"0.00"},{"v":0,"d":"0.00"},{"v":0,"d":"0.00"},{"v":0,"d":"0.00"},{"v":0,"d":"0.00"},{"v":0,"d":"0.00"},{"v":0,"d":"0.00"},{"v":0,"d":"0.00"}]
[]
[null,null,"начало года"]
[{"$nulls":3},"всего","норма","ниже нормы","низкий "]
[null,null,"количество детей",{"$f":"COUNTA($C$6:$C$29)","v":3},{"$f":"COUNTIF(T6:T29,\">=3,8\")","v":0},{"$f":"COUNTIFS(T6:T29,\"<3,7\",T6:T29,\">=2,3\")","v":0},{"$f":"COUNTIFS(T6:T29,\"<2,2\",T6:T29,\">0\")","v":0}]
[null,null,"%",100,{"$f":"E34*D35/D34","v":0},{"$f":"F34*D35/D34","v":{"v":0,"d":"0.0"}},{"$f":"G34*D35/D34","v":{"v":0,"d":"0.0"}}]
[]
[null,null,"конец года"]
[{"$nulls":3},"всего","норма","ниже нормы","низкий "]
[null,null,"количество детей",{"$f":"COUNTA(C5:C28)","v":3},{"$f":"COUNTIF(U6:U29,\">=3,8\")","v":0},{"$f":"COUNTIFS(U6:U29,\"<3,7\",U6:U29,\">=2,3\")","v":0},{"$f":"COUNTIFS(U6:U29,\"<2,2\",U6:U29,\">0\")","v":0}]
[null,null,"%",100,{"$f":"E39*D40/D39","v":{"v":0,"d":"0.0"}},{"$f":"F39*D40/D39","v":{"v":0,"d":"0.0"}},{"$f":"G39*D40/D39","v":{"v":0,"d":"0.0"}}]

{"sheet":"РР-3","index":12,"n_rows":41,"n_cols":26,"rows_kept":41,"merged":[[0,22,0,23],[2,0,4,0],[2,1,4,1],[2,2,2,7],[2,8,3,9],[2,10,2,15],[2,16,2,21],[2,22,3,23],[2,24,3,25],[3,2,3,3],[3,4,3,5],[3,6,3,7],[3,10,3,11],[3,12,3,13],[3,14,3,15],[3,16,3,17],[3,18,3,19],[3,20,3,21]]}
["НАПРАВЛЕНИЕ 3. СВЯЗНАЯ РЕЧЬ",{"$nulls":21},"ОГЛАВЛЕНИЕ"]
[]
["№п/п","ФИ ребенка","Вступает в диалог и продуктивно его поддерживает",{"$nulls":5},"Может пересказывать небольшие сказки и рассказы, знакомые детям и вновь прочитанные",null,"Умеет составлять по образцу небольшие рассказы",{"$nulls":5},"Использует формы речевого этикета",{"$nulls":5},"Умеет вступить, поддержать и завершить общение",null,"среднее значение "]
[null,null,"слушает собеседника до конца",null,"задает вопросы по теме диалога",null,"отвечает на вопрсы полно или кратко в зависимости от контекста",{"$nulls":3},"о предмете",null,"игрушке",null,"по содержанию сюжетной картины",null,"при ответе по телефону",null,"при вступлении в разговор с незнакомыми людьми",null,"при встрече гостей"]
[null,null,"н.г.","к.г.","н.г.","к.г.","н.г.","к.г.","н.г.","к.г.","н.г.","к.г.","н.г.","к.г.","н.г.","к.г.","н.г.","к.г.","н.г.","к.г.","н.г.","к.г.","н.г.","к.г.","н.г.","к.г."]
[1,"Иванов",{"$nulls":22},{"$f":"(C6+E6+G6+I6+K6+M6+O6+Q6+S6+U6+W6)/11","v":{"v":0,"d":"0.00"}},{"$f":"(D6+F6+H6+J6+L6+N6+P6+R6+T6+V6+X6)/11","v":{"v":0,"d":"0.00"}}]
[2,"Петров",{"$nulls":22},{"$f":"(C7+E7+G7+I7+K7+M7+O7+Q7+S7+U7+W7)/11","v":{"v":0,"d":"0.00"}},{"$f":"(D7+F7+H7+J7+L7+N7+P7+R7+T7+V7+X7)/11","v":{"v":0,"d":"0.00"}}]
[3,"Сидоров",{"$nulls":22},{"v":0,"d":"0.00"},{"v":0,"d":"0.00"}]
[4,{"$nulls":23},{"v":0,"d":"0.00"},{"v":0,"d":"0.00"}]
[5,{"$nulls":23},{"v":0,"d":"0.00"},{"v":0,"d":"0.00"}]
[6,{"$nulls":23},{"v":0,"d":"0.00"},{"v":0,"d":"0.00"}]
[7,{"$nulls":23},{"v":0,"d":"0.00"},{"v":0,"d":"0.00"}]
[8,{"$nulls":23},{"v":0,"d":"0.00"},{"v":0,"d":"0.00"}]
[9,{"$nulls":23},{"v":0,"d":"0.00"},{"v":0,"d":"0.00"}]
[10,{"$nulls":23},{"v":0,"d":"0.00"},{"v":0,"d":"0.00"}]
[11,{"$nulls":23},{"v":0,"d":"0.00"},{"v":0,"d":"0.00"}]
[12,{"$nulls":23},{"v":0,"d":"0.00"},{"v":0,"d":"0.00"}]
[13,{"$nulls":23},{"v":0,"d":"0.00"},{"v":0,"d":"0.00"}]
[14,{"$nulls":23},{"v":0,"d":"0.00"},{"v":0,"d":"0.00"}]
[15,{"$nulls":23},{"v":0,"d":"0.00"},{"v":0,"d":"0.00"}]
[16,{"$nulls":23},{"v":0,"d":"0.00"},{"v":0,"d":"0.00"}]
[17,{"$nulls":23},{"v":0,"d":"0.00"},{"v":0,"d":"0.00"}]
[18,{"$nulls":23},{"v":0,"d":"0.00"},{"v":0,"d":"0.00"}]
[19,{"$nulls":23},{"v":0,"d":"0.00"},{"v":0,"d":"0.00"}]
[20,{"$nulls":23},{"v":0,"d":"0.00"},{"v":0,"d":"0.00"}]
[21,{"$nulls":23},{"v":0,"d":"0.00"},{"v":0,"d":"0.00"}]
[22,{"$nulls":23},{"v":0,"d":"0.00"},{"v":0,"d":"0.00"}]
[23,{"$nulls":23},{"v":0,"d":"0.00"},{"v":0,"d":"0.00"}]
[24,{"$nulls":23},{"v":0,"d":"0.00"},{"v":0,"d":"0.00"}]
[null,"среднее значение:",{"$f":"(C6+C7+C8+C9+C10+C11+C12+C13+C14+C15+C16+C17+C18+C19+C20+C21+C22+C23+C24+C25+C26+C27+C28+C29)/COUNTA($B$6:$B$29)","v":{"v":0,"d":"0.00"}},{"$f":"(D6+D7+D8+D9+D10+D11+D12+D13+D14+D15+D16+D17+D18+D19+D20+D21+D22+D23+D24+D25+D26+D27+D28+D29)/COUNTA($B$6:$B$29)","v":{"v":0,"d":"0.00"}},{"v":0,"d":"0.00"},{"v":0,"d":"0.00"},{"v":0,"d":"0.00"},{"v":0,"d":"0.00"},{"v":0,"d":"0.00"},{"v":0,"d":"0.00"},{"v":0,"d":"0.00"},{"v":0,"d":"0.00"},{"v":0,"d":"0.00"},{"v":0,"d":"0.00"},{"v":0,"d":"0.00"},{"v":0,"d":"0.00"},{"v":0,"d":"0.00"},{"v":0,"d":"0.00"},{"v":0,"d":"0.00"},{"v":0,"d":"0.00"},{"v":0,"d":"0.00"},{"v":0,"d":"0.00"},{"v":0,"d":"0.00"},{"v":0,"d":"0.00"},{"v":0,"d":"0.00"},{"v":0,"d":"0.00"}]
[]
[]
[null,"начало года"]
[null,null,"всего","норма","ниже нормы","низкий "]
[null,"количество детей",{"$f":"COUNTA($B$6:$B$29)","v":3},{"$f":"COUNTIF(Y6:Y29,\">=3,8\")","v":0},{"$f":"COUNTIFS(Y6:Y29,\"<3,7\",Y6:Y29,\">=2,3\")","v":0},{"$f":"COUNTIFS(Y6:Y29,\"<2,2\",Y6:Y29,\">0\")","v":0}]
[null,"%",100,{"$f":"D35*C36/C35","v":0},{"$f":"E35*C36/C35","v":{"v":0,"d":"0.0"}},{"$f":"F35*C36/C35","v":{"v":0,"d":"0.0"}}]
[]
[null,"конец года"]
[null,null,"всего","норма","ниже нормы","низкий "]
[null,"количество детей",{"$f":"COUNTA(B5:B28)","v":3},{"$f":"COUNTIF(Z6:Z29,\">=3,8\")","v":0},{"$f":"COUNTIFS(Z6:Z29,\"<3,7\",Z6:Z29,\">=2,3\")","v":0},{"$f":"COUNTIFS(Z6:Z29,\"<2,2\",Z6:Z29,\">0\")","v":0}]
[null,"%",100,{"$f":"D40*C41/C40","v":{"v":0,"d":"0.0"}},{"$f":"E40*C41/C40","v":{"v":0,"d":"0.0"}},{"$f":"F40*C41/C40","v":{"v":0,"d":"0.0"}}]

{"sheet":"РР-4","index":13,"n_rows":41,"n_cols":25,"rows_kept":41,"merged":[[1,21,1,22],[3,1,5,1],[3,2,5,2],[3,3,4,4],[3,5,3,8],[3,9,4,10],[3,11,4,12],[3,13,4,14],[3,15,3,18],[3,19,4,20],[3,21,4,22],[3,23,4,24],[4,5,4,6],[4,7,4,8],[4,15,4,16],[4,17,4,18]]}
[null,"НАПРАВЛЕНИЕ 4. ЗВУКОВАЯ КУЛЬТУРА РЕЧИ. ПОДГОТОВКА К ОБУЧЕНИЮ ГРАМОТЕ."]
[{"$nulls":21},"ОГЛАВЛЕНИЕ"]
[]
[null,"№п/п","ФИ ребенка","Понимает значение термина \"слово\", \"звук\" и правильно употребляет в общении и в речевых играх",null,"Может различать на слух (без выделения терминов)",{"$nulls":3},"Умеет различать на слух длинные    и короткие слова",null,"Определяет и изолированно произносит первый звук в слове",null,"Может назвать слова с заданным звуком (в первой позиции)",null,"Может выделять голосом звук в слове",{"$nulls":3},"Большинство звуков произносит правильно",null,"Позьзуется средствами эмоциональной и речевой выразительности",null,"среднее значение "]
[{"$nulls":5},"твердые согласные",null,"мягкие согласные",{"$nulls":7},"произносить заданный звук протяжно, громче, четче, чем он произносится обычно ",null,"называть изолированно"]
[{"$nulls":3},"н.г.","к.г.","н.г.","к.г.","н.г.","к.г.","н.г.","к.г.","н.г.","к.г.","н.г.","к.г.","н.г.","к.г.","н.г.","к.г.","н.г.","к.г.","н.г.","к.г.","н.г.","к.г."]
[null,1,"Иванов",{"$nulls":20},{"$f":"(D7+F7+H7+J7+L7+N7+P7+R7+T7+V7)/10","v":{"v":0,"d":"0.00"}},{"$f":"(E7+G7+I7+K7+M7+O7+Q7+S7+U7+W7)/10","v":{"v":0,"d":"0.00"}}]
[null,2,"Петров",{"$nulls":20},{"$f":"(D8+F8+H8+J8+L8+N8+P8+R8+T8+V8)/10","v":{"v":0,"d":"0.00"}},{"v":0,"d":"0.00"}]
[null,3,"Сидоров",{"$nulls":20},{"v":0,"d":"0.00"},{"v":0,"d":"0.00"}]
[null,4,{"$nulls":21},{"v":0,"d":"0.00"},{"v":0,"d":"0.00"}]
[null,5,{"$nulls":21},{"v":0,"d":"0.00"},{"v":0,"d":"0.00"}]
[null,6,{"$nulls":21},{"v":0,"d":"0.00"},{"v":0,"d":"0.00"}]
[null,7,{"$nulls":21},{"v":0,"d":"0.00"},{"v":0,"d":"0.00"}]
[null,8,{"$nulls":21},{"v":0,"d":"0.00"},{"v":0,"d":"0.00"}]
[null,9,{"$nulls":21},{"v":0,"d":"0.00"},{"v":0,"d":"0.00"}]
[null,10,{"$nulls":21},{"v":0,"d":"0.00"},{"v":0,"d":"0.00"}]
[null,11,{"$nulls":21},{"v":0,"d":"0.00"},{"v":0,"d":"0.00"}]
[null,12,{"$nulls":21},{"v":0,"d":"0.00"},{"v":0,"d":"0.00"}]
[null,13,{"$nulls":21},{"v":0,"d":"0.00"},{"v":0,"d":"0.00"}]
[null,14,{"$nulls":21},{"v":0,"d":"0.00"},{"v":0,"d":"0.00"}]
[null,15,{"$nulls":21},{"v":0,"d":"0.00"},{"v":0,"d":"0.00"}]
[null,16,{"$nulls":21},{"v":0,"d":"0.00"},{"v":0,"d":"0.00"}]
[null,17,{"$nulls":21},{"v":0,"d":"0.00"},{"v":0,"d":"0.00"}]
[null,18,{"$nulls":21},{"v":0,"d":"0.00"},{"v":0,"d":"0.00"}]
[null,19,{"$nulls":21},{"v":0,"d":"0.00"},{"v":0,"d":"0.00"}]
[null,20,{"$nulls":21},{"v":0,"d":"0.00"},{"v":0,"d":"0.00"}]
[null,21,{"$nulls":21},{"v":0,"d":"0.00"},{"v":0,"d":"0.00"}]
[null,22,{"$nulls":21},{"v":0,"d":"0.00"},{"v":0,"d":"0.00"}]
[null,23,{"$nulls":21},{"v":0,"d":"0.00"},{"v":0,"d":"0.00"}]
[null,24,{"$nulls":21},{"v":0,"d":"0.00"},{"v":0,"d":"0.00"}]
[null,null,"среднее значение:",{"$f":"(D7+D8+D9+D10+D11+D12+D13+D14+D15+D16+D17+D18+D19+D20+D21+D22+D23+D24+D25+D26+D27+D28+D29+D30)/COUNTA($C$7:$C$30)","v":{"v":0,"d":"0.00"}},{"$f":"(E7+E8+E9+E10+E11+E12+E13+E14+E15+E16+E17+E18+E19+E20+E21+E22+E23+E24+E25+E26+E27+E28+E29+E30)/COUNTA($C$7:$C$30)","v":{"v":0,"d":"0.00"}},{"v":0,"d":"0.00"},{"v":0,"d":"0.00"},{"v":0,"d":"0.00"},{"v":0,"d":"0.00"},{"v":0,"d":"0.00"},{"v":0,"d":"0.00"},{"v":0,"d":"0.00"},{"v":0,"d":"0.00"},{"v":0,"d":"0.00"},{"v":0,"d":"0.00"},{"v":0,"d":"0.00"},{"v":0,"d":"0.00"},{"v":0,"d":"0.00"},{"v":0,"d":"0.00"},{"v":0,"d":"0.00"},{"v":0,"d":"0.00"},{"v":0,"d":"0.00"},{"v":0,"d":"0.00"},{"v":0,"d":"0.00"},{"v":0,"d":"0.00"}]
[]
[null,null,"начало года"]
[{"$nulls":3},"всего","норма","ниже нормы","низкий "]
[null,null,"количество детей",{"$f":"COUNTA($C$7:$C$30)","v":3},{"$f":"COUNTIF(X7:X30,\">=3,8\")","v":0},{"$f":"COUNTIFS(X7:X30,\"<3,7\",X7:X30,\">=2,3\")","v":0},{"$f":"COUNTIFS(X7:X30,\"<2,2\",X7:X30,\">0\")","v":0}]
[null,null,"%",100,{"$f":"E35*D36/D35","v":0},{"$f":"F35*D36/D35","v":{"v":0,"d":"0.0"}},{"$f":"G35*D36/D35","v":{"v":0,"d":"0.0"}}]
[]
[null,null,"конец года"]
[{"$nulls":3},"всего","норма","ниже нормы","низкий "]
[null,null,"количество детей",{"$f":"COUNTA(C6:C29)","v":3},{"$f":"COUNTIF(Y7:Y30,\">=3,8\")","v":0},{"$f":"COUNTIFS(Y7:Y30,\"<3,7\",Y7:Y30,\">=2,3\")","v":0},{"$f":"COUNTIFS(Y7:Y30,\"<2,2\",Y7:Y30,\">0\")","v":0}]
[null,null,"%",100,{"$f":"E40*D41/D40","v":{"v":0,"d":"0.0"}},{"$f":"F40*D41/D40","v":{"v":0,"d":"0.0"}},{"$f":"G40*D41/D40","v":{"v":0,"d":"0.0"}}]

{"sheet":"РР-5","index":14,"n_rows":41,"n_cols":17,"rows_kept":41,"merged":[[1,13,1,14],[3,1,5,1],[3,2,5,2],[3,3,4,4],[3,5,4,6],[3,7,4,8],[3,9,4,10],[3,11,4,12],[3,13,4,14],[3,15,4,16]]}
[null,"НАПРАВЛЕНИЕ 5. ИНТЕРЕС К ХУДОЖЕСТВЕННО ЛИТЕРАТУРЕ."]
[{"$nulls":13},"ОГЛАВЛЕНИЕ"]
[]
[null,"№п/п","ФИ ребенка","Имеет предпочтение в литературных произведениях",null,"Проявляет эмоциональную заинтересованность в драматизации знакомых сказок.",null,"Может пересказать сюжет литературного произведения, заучить стихотворение наизусть",null,"Знает основные особенности жанров литературных произведений",null,"Умеет устанавливать причинно-следственные связи в повествовании, понимает главные характеристики героев",null,"Выразительно читает наизусть потешки, прибаутки, стихотворения.",null,"среднее значение "]
[]
[{"$nulls":3},"н.г.","к.г.","н.г.","к.г.","н.г.","к.г.","н.г.","к.г.","н.г.","к.г.","н.г.","к.г.","н.г.","к.г."]
[null,1,"Иванов",{"$nulls":12},{"$f":"(D7+F7+H7+J7+L7+N7)/6","v":{"v":0,"d":"0.00"}},{"$f":"(E7+G7+I7+K7+M7+O7)/6","v":{"v":0,"d":"0.00"}}]
[null,2,"Петров",{"$nulls":12},{"$f":"(D8+F8+H8+J8+L8+N8)/6","v":{"v":0,"d":"0.00"}},{"$f":"(E8+G8+I8+K8+M8+O8)/6","v":{"v":0,"d":"0.00"}}]
[null,3,"Сидоров",{"$nulls":12},{"v":0,"d":"0.00"},{"v":0,"d":"0.00"}]
[null,4,{"$nulls":13},{"v":0,"d":"0.00"},{"v":0,"d":"0.00"}]
[null,5,{"$nulls":13},{"v":0,"d":"0.00"},{"v":0,"d":"0.00"}]
[null,6,{"$nulls":13},{"v":0,"d":"0.00"},{"v":0,"d":"0.00"}]
[null,7,{"$nulls":13},{"v":0,"d":"0.00"},{"v":0,"d":"0.00"}]
[null,8,{"$nulls":13},{"v":0,"d":"0.00"},{"v":0,"d":"0.00"}]
[null,9,{"$nulls":13},{"v":0,"d":"0.00"},{"v":0,"d":"0.00"}]
[null,10,{"$nulls":13},{"v":0,"d":"0.00"},{"v":0,"d":"0.00"}]
[null,11,{"$nulls":13},{"v":0,"d":"0.00"},{"v":0,"d":"0.00"}]
[null,12,{"$nulls":13},{"v":0,"d":"0.00"},{"v":0,"d":"0.00"}]
[null,13,{"$nulls":13},{"v":0,"d":"0.00"},{"v":0,"d":"0.00"}]
[null,14,{"$nulls":13},{"v":0,"d":"0.00"},{"v":0,"d":"0.00"}]
[null,15,{"$nulls":13},{"v":0,"d":"0.00"},{"v":0,"d":"0.00"}]
[null,16,{"$nulls":13},{"v":0,"d":"0.00"},{"v":0,"d":"0.00"}]
[null,17,{"$nulls":13},{"v":0,"d":"0.00"},{"v":0,"d":"0.00"}]
[null,18,{"$nulls":13},{"v":0,"d":"0.00"},{"v":0,"d":"0.00"}]
[null,19,{"$nulls":13},{"v":0,"d":"0.00"},{"v":0,"d":"0.00"}]
[null,20,{"$nulls":13},{"v":0,"d":"0.00"},{"v":0,"d":"0.00"}]
[null,21,{"$nulls":13},{"v":0,"d":"0.00"},{"v":0,"d":"0.00"}]
[null,22,{"$nulls":13},{"v":0,"d":"0.00"},{"v":0,"d":"0.00"}]
[null,23,{"$nulls":13},{"v":0,"d":"0.00"},{"v":0,"d":"0.00"}]
[null,24,{"$nulls":13},{"v":0,"d":"0.00"},{"v":0,"d":"0.00"}]
[null,null,"среднее значение:",{"$f":"(D7+D8+D9+D10+D11+D12+D13+D14+D15+D16+D17+D18+D19+D20+D21+D22+D23+D24+D25+D26+D27+D28+D29+D30)/COUNTA($C$7:$C$30)","v":{"v":0,"d":"0.00"}},{"$f":"(E7+E8+E9+E10+E11+E12+E13+E14+E15+E16+E17+E18+E19+E20+E21+E22+E23+E24+E25+E26+E27+E28+E29+E30)/COUNTA($C$7:$C$30)","v":{"v":0,"d":"0.00"}},{"v":0,"d":"0.00"},{"v":0,"d":"0.00"},{"v":0,"d":"0.00"},{"v":0,"d":"0.00"},{"v":0,"d":"0.00"},{"v":0,"d":"0.00"},{"v":0,"d":"0.00"},{"v":0,"d":"0.00"},{"v":0,"d":"0.00"},{"v":0,"d":"0.00"},{"v":0,"d":"0.00"},{"v":0,"d":"0.00"}]
[]
[null,null,"начало года"]
[{"$nulls":3},"всего","норма","ниже нормы","низкий "]
[null,null,"количество детей",{"$f":"COUNTA($C$7:$C$30)","v":3},{"$f":"COUNTIF(P7:P30,\">=3,8\")","v":0},{"$f":"COUNTIFS(P7:P30,\"<3,7\",P7:P30,\">=2,3\")","v":0},{"$f":"COUNTIFS(P7:P30,\"<2,2\",P7:P30,\">0\")","v":0}]
[null,null,"%",100,{"$f":"E35*D36/D35","v":0},{"$f":"F35*D36/D35","v":{"v":0,"d":"0.0"}},{"$f":"G35*D36/D35","v":{"v":0,"d":"0.0"}}]
[]
[null,null,"конец года"]
[{"$nulls":3},"всего","норма","ниже нормы","низкий "]
[null,null,"количество детей",{"$f":"COUNTA(C6:C29)","v":3},{"$f":"COUNTIF(Q7:Q30,\">=3,8\")","v":0},{"$f":"COUNTIFS(Q7:Q30,\"<3,7\",Q7:Q30,\">=2,3\")","v":0},{"$f":"COUNTIFS(Q7:Q30,\"<2,2\",Q7:Q30,\">0\")","v":0}]
[null,null,"%",100,{"$f":"E40*D41/D40","v":{"v":0,"d":"0.0"}},{"$f":"F40*D41/D40","v":{"v":0,"d":"0.0"}},{"$f":"G40*D41/D40","v":{"v":0,"d":"0.0"}}]

{"sheet":"ИТОГ РР","index":15,"n_rows":37,"n_cols":7,"rows_kept":37,"merged":[[0,0,0,6],[1,1,1,5],[28,0,28,1],[28,2,28,6],[29,2,29,6],[30,2,30,6],[31,2,31,6],[32,2,32,6],[33,2,33,6],[34,2,34,6],[36,0,36,1],[36,2,36,6],[37,2,37,6],[38,2,38,6],[39,2,39,6],[40,2,40,6],[41,2,41,6],[42,2,42,6]]}
["Обобщение результатов педагогической диагностики по направлениям"]
[null,"ОО «Речевое развитие»"]
[]
["ОГЛАВЛЕНИЕ","Развитие словаря","Совершенствование граммат ического строя речи","Связная речь","Звуковая культура речи. Подготовка к обучению грамоте","Интерес к художественной литературе","Средний уровень речевого развития"]
[null,1,2,3,4,5,"ср.ур."]
["начало",{"$f":"'РР-1'!AH31","v":{"v":0,"d":"0.00"}},{"$f":"'РР-2'!T30","v":{"v":0,"d":"0.00"}},{"$f":"'РР-3'!Y30","v":{"v":0,"d":"0.00"}},{"$f":"'РР-4'!X31","v":{"v":0,"d":"0.00"}},{"$f":"'РР-5'!P31","v":{"v":0,"d":"0.00"}},{"$f":"(B6+C6+D6+E6+F6)/5","v":{"v":0,"d":"0.00"}}]
["конец",{"$f":"'РР-1'!AI31","v":{"v":0,"d":"0.00"}},{"$f":"'РР-2'!U30","v":{"v":0,"d":"0.00"}},{"$f":"'РР-3'!Z30","v":{"v":0,"d":"0.00"}},{"$f":"'РР-4'!Y31","v":{"v":0,"d":"0.00"}},{"$f":"'РР-5'!Q31","v":{"v":0,"d":"0.00"}},{"$f":"(B7+C7+D7+E7+F7)/5","v":{"v":0,"d":"0.00"}}]
{"$rows_empty":20}
["ВЫВОДЫ:"]
["Начало учебного года:"]
{"$rows_empty":7}
["Конец учебного года:"]

{"sheet":"ХЭ-1","index":16,"n_rows":43,"n_cols":30,"rows_kept":43,"merged":[[0,0,0,29],[1,21,1,22],[3,0,6,0],[3,1,6,1],[3,2,5,3],[3,4,3,9],[3,10,3,25],[3,26,5,27],[3,28,5,29],[4,4,5,5],[4,6,5,7],[4,8,5,9],[4,10,4,15],[4,16,4,19],[4,20,5,21],[4,22,5,23],[4,24,5,25],[5,10,5,11],[5,12,5,13],[5,14,5,15],[5,16,5,17],[5,18,5,19]]}
["Образовательная область «Художественно-эстетическое развитие»"]
["НАПРАВЛЕНИЕ I. ПРИОБЩЕНИЕ К ИСКУССТВУ.",{"$nulls":20},"ОГЛАВЛЕНИЕ"]
[]
["№п/п","ФИ ребенка","Знает и называет творческие профессии (артист, художник, композитор, писатель)",null,"Узнает и называет предметы и явления прирды, окружающей действительности                                     в художественных образах:",{"$nulls":5},"Умеет различать жанры и виды искусства",{"$nulls":15},"Выделяет и называет основные средства выразительности (цвет, форма, жест, звук) и создает свои художественные образы",null,"среднее значение "]
[{"$nulls":4},"литература",null,"музыка",null,"изобразительное искусство",null,"литература:",{"$nulls":5},"музыка:",{"$nulls":3},"картина",null,"скульптура",null,"архитектура"]
[{"$nulls":10},"стихи",null,"проза",null,"загадки",null,"песни",null,"танцы"]
[null,null,"н.г.","к.г.","н.г.","к.г.","н.г.","к.г.","н.г.","к.г.","н.г.","к.г.","н.г.","к.г.","н.г.","к.г.","н.г.","к.г.","н.г.","к.г.","н.г.","к.г.","н.г.","к.г.","н.г.","к.г.","н.г.","к.г.","н.г.","к.г."]
[1,"Иванов",{"$nulls":26},{"$f":"(C8+E8+G8+I8+K8+M8+O8+Q8+S8+U8+W8+Y8+AA8)/13","v":{"v":0,"d":"0.00"}},{"$f":"(D8+F8+H8+J8+L8+N8+P8+R8+T8+V8+X8+Z8+AB8)/13","v":{"v":0,"d":"0.00"}}]
[2,"Петров",{"$nulls":26},{"$f":"(C9+E9+G9+I9+K9+M9+O9+Q9+S9+U9+W9+Y9+AA9)/13","v":{"v":0,"d":"0.00"}},{"v":0,"d":"0.00"}]
[3,"Сидоров",{"$nulls":26},{"v":0,"d":"0.00"},{"v":0,"d":"0.00"}]
[4,{"$nulls":27},{"v":0,"d":"0.00"},{"v":0,"d":"0.00"}]
[5,{"$nulls":27},{"v":0,"d":"0.00"},{"v":0,"d":"0.00"}]
[6,{"$nulls":27},{"v":0,"d":"0.00"},{"v":0,"d":"0.00"}]
[7,{"$nulls":27},{"v":0,"d":"0.00"},{"v":0,"d":"0.00"}]
[8,{"$nulls":27},{"v":0,"d":"0.00"},{"v":0,"d":"0.00"}]
[9,{"$nulls":27},{"v":0,"d":"0.00"},{"v":0,"d":"0.00"}]
[10,{"$nulls":27},{"v":0,"d":"0.00"},{"v":0,"d":"0.00"}]
[11,{"$nulls":27},{"v":0,"d":"0.00"},{"v":0,"d":"0.00"}]
[12,{"$nulls":27},{"v":0,"d":"0.00"},{"v":0,"d":"0.00"}]
[13,{"$nulls":27},{"v":0,"d":"0.00"},{"v":0,"d":"0.00"}]
[14,{"$nulls":27},{"v":0,"d":"0.00"},{"v":0,"d":"0.00"}]
[15,{"$nulls":27},{"v":0,"d":"0.00"},{"v":0,"d":"0.00"}]
[16,{"$nulls":27},{"v":0,"d":"0.00"},{"v":0,"d":"0.00"}]
[17,{"$nulls":27},{"v":0,"d":"0.00"},{"v":0,"d":"0.00"}]
[18,{"$nulls":27},{"v":0,"d":"0.00"},{"v":0,"d":"0.00"}]
[19,{"$nulls":27},{"v":0,"d":"0.00"},{"v":0,"d":"0.00"}]
[20,{"$nulls":27},{"v":0,"d":"0.00"},{"v":0,"d":"0.00"}]
[21,{"$nulls":27},{"v":0,"d":"0.00"},{"v":0,"d":"0.00"}]
[22,{"$nulls":27},{"v":0,"d":"0.00"},{"v":0,"d":"0.00"}]
[23,{"$nulls":27},{"v":0,"d":"0.00"},{"v":0,"d":"0.00"}]
[24,{"$nulls":27},{"v":0,"d":"0.00"},{"v":0,"d":"0.00"}]
[null,"среднее значение:",{"$f":"(C8+C9+C10+C11+C12+C13+C14+C15+C16+C17+C18+C19+C20+C21+C22+C23+C24+C25+C26+C27+C28+C29+C30+C31)/COUNTA($B$8:$B$31)","v":{"v":0,"d":"0.00"}},{"$f":"(D8+D9+D10+D11+D12+D13+D14+D15+D16+D17+D18+D19+D20+D21+D22+D23+D24+D25+D26+D27+D28+D29+D30+D31)/COUNTA($B$8:$B$31)","v":{"v":0,"d":"0.00"}},{"v":0,"d":"0.00"},{"v":0,"d":"0.00"},{"v":0,"d":"0.00"},{"v":0,"d":"0.00"},{"v":0,"d":"0.00"},{"v":0,"d":"0.00"},{"v":0,"d":"0.00"},{"v":0,"d":"0.00"},{"v":0,"d":"0.00"},{"v":0,"d":"0.00"},{"v":0,"d":"0.00"},{"v":0,"d":"0.00"},{"v":0,"d":"0.00"},{"v":0,"d":"0.00"},{"v":0,"d":"0.00"},{"v":0,"d":"0.00"},{"v":0,"d":"0.00"},{"v":0,"d":"0.00"},{"v":0,"d":"0.00"},{"v":0,"d":"0.00"},{"v":0,"d":"0.00"},{"v":0,"d":"0.00"},{"v":0,"d":"0.00"},{"v":0,"d":"0.00"},{"v":0,"d":"0.00"},{"v":0,"d":"0.00"}]
[]
[]
[null,"начало года"]
[null,null,"всего","норма","ниже нормы","низкий "]
[null,"количество детей",{"$f":"COUNTA($B$8:$B$31)","v":3},{"$f":"COUNTIF(AC8:AC31,\">=3,8\")","v":0},{"$f":"COUNTIFS(AC8:AC31,\"<3,7\",AC8:AC31,\">=2,3\")","v":0},{"$f":"COUNTIFS(AC8:AC31,\"<2,2\",AC8:AC31,\">0\")","v":0}]
[null,"%",100,{"$f":"D37*C38/C37","v":{"v":0,"d":"0.00"}},{"$f":"E37*C38/C37","v":{"v":0,"d":"0.00"}},{"$f":"F37*C38/C37","v":{"v":0,"d":"0.00"}}]
[]
[null,"конец года"]
[null,null,"всего","норма","ниже нормы","низкий "]
[null,"количество детей",{"$f":"COUNTA(B8:B31)","v":3},{"$f":"COUNTIF(AD8:AD31,\">=3,8\")","v":0},{"$f":"COUNTIFS(AD8:AD31,\"<3,7\",AD8:AD31,\">=2,3\")","v":0},{"$f":"COUNTIFS(AD8:AD31,\"<2,2\",AD8:AD31,\">0\")","v":0}]
[null,"%",100,{"$f":"D42*C43/C42","v":{"v":0,"d":"0.00"}},{"$f":"E42*C43/C42","v":{"v":0,"d":"0.00"}},{"$f":"F42*C43/C42","v":{"v":0,"d":"0.00"}}]

{"sheet":"ХЭ-2","index":17,"n_rows":41,"n_cols":31,"rows_kept":41,"merged":[[0,20,0,21],[2,1,4,1],[2,2,4,2],[2,3,2,16],[2,17,2,18],[2,19,2,24],[2,25,2,28],[2,29,3,30],[3,3,3,4],[3,5,3,6],[3,7,3,8],[3,9,3,10],[3,11,3,12],[3,13,3,14],[3,15,3,16],[3,17,3,18],[3,19,3,20],[3,21,3,22],[3,23,3,24],[3,25,3,26],[3,27,3,28]]}
[null,"НАПРАВЛЕНИЕ 2. ИЗОБРАЗИТЕЛЬНАЯ  ДЕЯТЕЛЬНОСТЬ",{"$nulls":18},"ОГЛАВЛЕНИЕ"]
[]
[null,"№п/п","ФИ ребенка","Рисование",{"$nulls":13},"Народное декоративно-прикладное искусство",null,"Лепка",{"$nulls":5},"Аппликация",{"$nulls":3},"среднее значение "]
[{"$nulls":3},"Рисует отдельные предметы и создает сюжетные композиции",null,"Располагает изображения на всем листе в соответствии с содержанием действия  объектами",null,"Умеет смешивать краски для получения нужных цветов (коричневый, оранжевый, светло-зеленый)",null,"Правильно держит карандаш, кисть, фломастер",null,"Умеет закрашивать рисунки кистью, карандашом, проводя линии и штрихи только в одном направлении (сверху вниз или слева направо)",null,"Наносить штрихи, маски по всей форме не выходя за пределы контура",null,"Умеет правильно передавать расположение частей при рисовании сложных предметов (кукла, зйчик) и соотносить их по величине",null,"Правильно называет некоторые росписи с опорой на предмет, или его изображение или элемент росписи (городецкая, филимоновская, дымковская)",null,"Использует прием прищипывания в работе с пластилином",null,"Использует в работе стеку",null,"Умеет лепить предметы состоящие из нескольких частей",null,"Пользуется ножницами, правильно их держит, режет по прямой, преобразовывает одни фигуры в другие (квадрат в круг, прямоугольник в овал)",null,"Умеет делить форму на 2 или 4 части (круг-на полукруги, четверти; квадрат - на треугольники)"]
[{"$nulls":3},"н.г.","к.г.","н.г.","к.г.","н.г.","к.г.","н.г.","к.г.","н.г.","к.г.","н.г.","к.г.","н.г.","к.г.","н.г.","к.г.","н.г.","к.г.","н.г.","к.г.","н.г.","к.г.","н.г.","к.г.","н.г.","к.г.","н.г.","к.г."]
[null,1,"Иванов",{"$nulls":26},{"$f":"(N6+P6+R6+D6+F6+H6+J6+L6+T6+V6+X6+Z6+AB6)/13","v":{"v":0,"d":"0.00"}},{"$f":"(O6+Q6+A6+E6+G6+I6+K6+M6+U6+W6+Y6+AA6+AC6+S6)/13","v":{"v":0,"d":"0.00"}}]
[null,2,"Петров",{"$nulls":26},{"$f":"(N7+P7+R7+D7+F7+H7+J7+L7+T7+V7+X7+Z7+AB7)/13","v":{"v":0,"d":"0.00"}},{"$f":"(O7+Q7+A7+E7+G7+I7+K7+M7+U7+W7+Y7+AA7+AC7+S7)/13","v":{"v":0,"d":"0.00"}}]
[null,3,"Сидоров",{"$nulls":26},{"v":0,"d":"0.00"},{"v":0,"d":"0.00"}]
[null,4,{"$nulls":27},{"v":0,"d":"0.00"},{"v":0,"d":"0.00"}]
[null,5,{"$nulls":27},{"v":0,"d":"0.00"},{"v":0,"d":"0.00"}]
[null,6,{"$nulls":27},{"v":0,"d":"0.00"},{"v":0,"d":"0.00"}]
[null,7,{"$nulls":27},{"v":0,"d":"0.00"},{"v":0,"d":"0.00"}]
[null,8,{"$nulls":27},{"v":0,"d":"0.00"},{"v":0,"d":"0.00"}]
[null,9,{"$nulls":27},{"v":0,"d":"0.00"},{"v":0,"d":"0.00"}]
[null,10,{"$nulls":27},{"v":0,"d":"0.00"},{"v":0,"d":"0.00"}]
[null,11,{"$nulls":27},{"v":0,"d":"0.00"},{"v":0,"d":"0.00"}]
[null,12,{"$nulls":27},{"v":0,"d":"0.00"},{"v":0,"d":"0.00"}]
[null,13,{"$nulls":27},{"v":0,"d":"0.00"},{"v":0,"d":"0.00"}]
[null,14,{"$nulls":27},{"v":0,"d":"0.00"},{"v":0,"d":"0.00"}]
[null,15,{"$nulls":27},{"v":0,"d":"0.00"},{"v":0,"d":"0.00"}]
[null,16,{"$nulls":27},{"v":0,"d":"0.00"},{"v":0,"d":"0.00"}]
[null,17,{"$nulls":27},{"v":0,"d":"0.00"},{"v":0,"d":"0.00"}]
[null,18,{"$nulls":27},{"v":0,"d":"0.00"},{"v":0,"d":"0.00"}]
[null,19,{"$nulls":27},{"v":0,"d":"0.00"},{"v":0,"d":"0.00"}]
[null,20,{"$nulls":27},{"v":0,"d":"0.00"},{"v":0,"d":"0.00"}]
[null,21,{"$nulls":27},{"v":0,"d":"0.00"},{"v":0,"d":"0.00"}]
[null,22,{"$nulls":27},{"v":0,"d":"0.00"},{"v":0,"d":"0.00"}]
[null,23,{"$nulls":27},{"v":0,"d":"0.00"},{"v":0,"d":"0.00"}]
[null,24,{"$nulls":27},{"v":0,"d":"0.00"},{"v":0,"d":"0.00"}]
[null,null,"среднее значение:",{"$f":"(D6+D7+D8+D9+D10+D11+D12+D13+D14+D15+D16+D17+D18+D19+D20+D21+D22+D23+D24+D25+D26+D27+D28+D29)/COUNTA($C$6:$C$29)","v":{"v":0,"d":"0.00"}},{"$f":"(E6+E7+E8+E9+E10+E11+E12+E13+E14+E15+E16+E17+E18+E19+E20+E21+E22+E23+E24+E25+E26+E27+E28+E29)/COUNTA($C$6:$C$29)","v":{"v":0,"d":"0.00"}},{"v":0,"d":"0.00"},{"v":0,"d":"0.00"},{"v":0,"d":"0.00"},{"v":0,"d":"0.00"},{"v":0,"d":"0.00"},{"v":0,"d":"0.00"},{"v":0,"d":"0.00"},{"v":0,"d":"0.00"},{"v":0,"d":"0.00"},{"v":0,"d":"0.00"},{"v":0,"d":"0.00"},{"v":0,"d":"0.00"},{"v":0,"d":"0.00"},{"v":0,"d":"0.00"},{"v":0,"d":"0.00"},{"v":0,"d":"0.00"},{"v":0,"d":"0.00"},{"v":0,"d":"0.00"},{"v":0,"d":"0.00"},{"v":0,"d":"0.00"},{"v":0,"d":"0.00"},{"v":0,"d":"0.00"},{"v":0,"d":"0.00"},{"v":0,"d":"0.00"},{"v":0,"d":"0.00"},{"v":0,"d":"0.00"}]
[]
[null,null,"начало года"]
[{"$nulls":3},"всего","норма","ниже нормы","низкий "]
[null,null,"количество детей",{"$f":"COUNTA($C$6:$C$29)","v":3},{"$f":"COUNTIF(AD6:AD29,\">=3,8\")","v":0},{"$f":"COUNTIFS(AD6:AD29,\"<3,7\",AD6:AD29,\">=2,3\")","v":0},{"$f":"COUNTIFS(AD6:AD29,\"<2,2\",AD6:AD29,\">0\")","v":0}]
[null,null,"%",100,{"$f":"E34*D35/D34","v":{"v":0,"d":"0.00"}},{"$f":"F34*D35/D34","v":{"v":0,"d":"0.00"}},{"$f":"G34*D35/D34","v":{"v":0,"d":"0.00"}}]
[]
[]
[null,null,"конец года"]
[{"$nulls":3},"всего","норма","ниже нормы","низкий "]
[null,null,"количество детей",{"$f":"COUNTA(C5:C28)","v":3},{"$f":"COUNTIF(AE6:AE29,\">=3,8\")","v":0},{"$f":"COUNTIFS(AE6:AE29,\"<3,7\",AE6:AE29,\">=2,3\")","v":0},{"$f":"COUNTIFS(AE6:AE29,\"<2,2\",AE6:AE29,\">0\")","v":0}]
[null,null,"%",100,{"$f":"E40*D41/D40","v":{"v":0,"d":"0.00"}},{"$f":"F40*D41/D40","v":{"v":0,"d":"0.00"}},{"$f":"G40*D41/D40","v":{"v":0,"d":"0.00"}}]

{"sheet":"ХЭ-3","index":18,"n_rows":40,"n_cols":15,"rows_kept":40,"merged":[[2,1,4,1],[2,2,4,2],[2,3,2,12],[2,13,3,14],[3,3,3,4],[3,5,3,6],[3,7,3,8],[3,9,3,10],[3,11,3,12]]}
[null,"НАПРАВЛЕНИЕ 3. КОНСТРУКТИВНАЯ ДЕЯТЕЛЬНОСТЬ"]
[]
[null,"№п/п","ФИ ребенка","Конструктивная деятельность",{"$nulls":9},"среднее значение "]
[{"$nulls":3},"Умеет выделять и называть части построек, определить их назначение и пространственное расположение",null,"Умеет создавать постройки разной конструктивной сложности (гараж на несколько машин, дом 2-3 этажа)",null,"Использует постройки в сюжетно-ролевых играх",null,"Умеет сгибать лист бумагипополам, совмещая стороны и углы",null,"Умеет сгибать лист бумагипополам, совмещая стороны и углы"]
[{"$nulls":3},"н.г.","к.г.","н.г.","к.г.","н.г.","к.г.","н.г.","к.г.","н.г.","к.г.","н.г.","к.г."]
[null,1,"Иванов",{"$nulls":10},{"$f":"(D6+F6+H6+J6+L6)/4","v":{"v":0,"d":"0.00"}},{"$f":"(E6+G6+I6+K6+M6)/4","v":{"v":0,"d":"0.00"}}]
[null,2,"Петров",{"$nulls":10},{"$f":"(D7+F7+H7+J7+L7)/4","v":{"v":0,"d":"0.00"}},{"$f":"(E7+G7+I7+K7+M7)/4","v":{"v":0,"d":"0.00"}}]
[null,3,"Сидоров",{"$nulls":10},{"v":0,"d":"0.00"},{"v":0,"d":"0.00"}]
[null,4,{"$nulls":11},{"v":0,"d":"0.00"},{"v":0,"d":"0.00"}]
[null,5,{"$nulls":11},{"v":0,"d":"0.00"},{"v":0,"d":"0.00"}]
[null,6,{"$nulls":11},{"v":0,"d":"0.00"},{"v":0,"d":"0.00"}]
[null,7,{"$nulls":11},{"v":0,"d":"0.00"},{"v":0,"d":"0.00"}]
[null,8,{"$nulls":11},{"v":0,"d":"0.00"},{"v":0,"d":"0.00"}]
[null,9,{"$nulls":11},{"v":0,"d":"0.00"},{"v":0,"d":"0.00"}]
[null,10,{"$nulls":11},{"v":0,"d":"0.00"},{"v":0,"d":"0.00"}]
[null,11,{"$nulls":11},{"v":0,"d":"0.00"},{"v":0,"d":"0.00"}]
[null,12,{"$nulls":11},{"v":0,"d":"0.00"},{"v":0,"d":"0.00"}]
[null,13,{"$nulls":11},{"v":0,"d":"0.00"},{"v":0,"d":"0.00"}]
[null,14,{"$nulls":11},{"v":0,"d":"0.00"},{"v":0,"d":"0.00"}]
[null,15,{"$nulls":11},{"v":0,"d":"0.00"},{"v":0,"d":"0.00"}]
[null,16,{"$nulls":11},{"v":0,"d":"0.00"},{"v":0,"d":"0.00"}]
[null,17,{"$nulls":11},{"v":0,"d":"0.00"},{"v":0,"d":"0.00"}]
[null,18,{"$nulls":11},{"v":0,"d":"0.00"},{"v":0,"d":"0.00"}]
[null,19,{"$nulls":11},{"v":0,"d":"0.00"},{"v":0,"d":"0.00"}]
[null,20,{"$nulls":11},{"v":0,"d":"0.00"},{"v":0,"d":"0.00"}]
[null,21,{"$nulls":11},{"v":0,"d":"0.00"},{"v":0,"d":"0.00"}]
[null,22,{"$nulls":11},{"v":0,"d":"0.00"},{"v":0,"d":"0.00"}]
[null,23,{"$nulls":11},{"v":0,"d":"0.00"},{"v":0,"d":"0.00"}]
[null,24,{"$nulls":11},{"v":0,"d":"0.00"},{"v":0,"d":"0.00"}]
[null,null,"среднее значение:",{"$f":"(D6+D7+D8+D9+D10+D11+D12+D13+D14+D15+D16+D17+D18+D19+D20+D21+D22+D23+D24+D25+D26+D27+D28+D29)/COUNTA($C$6:$C$29)","v":{"v":0,"d":"0.00"}},{"$f":"(E6+E7+E8+E9+E10+E11+E12+E13+E14+E15+E16+E17+E18+E19+E20+E21+E22+E23+E24+E25+E26+E27+E28+E29)/COUNTA($C$6:$C$29)","v":{"v":0,"d":"0.00"}},{"v":0,"d":"0.00"},{"v":0,"d":"0.00"},{"v":0,"d":"0.00"},{"v":0,"d":"0.00"},{"v":0,"d":"0.00"},{"v":0,"d":"0.00"},{"v":0,"d":"0.00"},{"v":0,"d":"0.00"},{"v":0,"d":"0.00"},{"v":0,"d":"0.00"}]
[]
[null,null,"начало года"]
[{"$nulls":3},"всего","норма","ниже нормы","низкий "]
[null,null,"количество детей",{"$f":"COUNTA($C$6:$C$29)","v":3},{"$f":"COUNTIF(N6:N29,\">=3,8\")","v":0},{"$f":"COUNTIFS(N6:N29,\"<3,7\",N6:N29,\">=2,3\")","v":0},{"$f":"COUNTIFS(N6:N29,\"<2,2\",N6:N29,\">0\")","v":0}]
[null,null,"%",100,{"$f":"E34*D35/D34","v":{"v":0,"d":"0.00"}},{"$f":"F34*D35/D34","v":{"v":0,"d":"0.00"}},{"$f":"G34*D35/D34","v":{"v":0,"d":"0.00"}}]
[]
[null,null,"конец года"]
[{"$nulls":3},"всего","норма","ниже нормы","низкий "]
[null,null,"количество детей",{"$f":"COUNTA($C$6:$C$29)","v":3},{"$f":"COUNTIF(O6:O29,\">=3,8\")","v":0},{"$f":"COUNTIFS(O6:O29,\"<3,7\",O6:O29,\">=2,3\")","v":0},{"$f":"COUNTIFS(O6:O29,\"<2,2\",O6:O29,\">0\")","v":0}]
[null,null,"%",100,{"$f":"E39*D40/D39","v":{"v":0,"d":"0.00"}},{"$f":"F39*D40/D39","v":{"v":0,"d":"0.00"}},{"$f":"G39*D40/D39","v":{"v":0,"d":"0.00"}}]

{"sheet":"ХЭ-4","index":19,"n_rows":40,"n_cols":29,"rows_kept":40,"merged":[[0,23,0,24],[2,1,4,1],[2,2,4,2],[2,3,2,8],[2,9,2,12],[2,13,2,16],[2,17,2,20],[2,21,2,24],[2,25,2,26],[2,27,3,28],[3,3,3,4],[3,5,3,6],[3,7,3,8],[3,9,3,10],[3,11,3,12],[3,13,3,14],[3,15,3,16],[3,17,3,18],[3,19,3,20],[3,21,3,22],[3,23,3,24],[3,25,3,26]]}
[null,"НАПРАВЛЕНИЕ 4. МУЗЫКАЛЬНАЯ ДЕЯТЕЛЬНОСТЬ",{"$nulls":21},"ОГЛАВЛЕНИЕ"]
[]
[null,"№п/п","ФИ ребенка","Слушание",{"$nulls":5},"Пение",{"$nulls":3},"Песенное творчество",{"$nulls":3},"Музыкально-ритмические движения",{"$nulls":3},"Танцевально-игровое творчество",{"$nulls":3},"Игра на ДМИ",null,"среднее значение "]
[{"$nulls":3},"Узнаёт знакомые произведения",null,"Различает звуки по высоте (высокий, низкий в пределах сексты-септимы).",null,"Замечает выразительные средства музыкального произведения: тихо, громко, медленно, быстро.",null,"Выразительное пение",null,"Умеет петь с инструментальным сопровождением и без него (с помощью педагога)",null,"Умеет сочинять мелодию колыбельной песни и отвечать на музыкальные вопросы",null,"Умеет импровизировать мелодию на заданный текст",null,"Выполняет движения, отвечающие характеру музыки, самостоятельно меняя их в соответствии с двухчастной формой .музыкального произведения;",null,"Выполняет танцевальные движения: галоп, пружинка, кружение по одному и в парах, простейшие перестроения, подскоки",null,"Эмоционально-образно исполняет музыкально-игровые упражнения и сценки используя мимику и пантомиму",null,"Умеет инсценировать песни и небольшие музыкальные спектакли",null,"Умеет подыгрывать простейшие мелодии на металлофоне, деревянных ложках, погремушках, барабане "]
[{"$nulls":3},"н.г.","к.г.","н.г.","к.г.","н.г.","к.г.","н.г.","к.г.","н.г.","к.г.","н.г.","к.г.","н.г.","к.г.","н.г.","к.г.","н.г.","к.г.","н.г.","к.г.","н.г.","к.г.","н.г.","к.г.","н.г.","к.г."]
[null,1,"Иванов",{"$nulls":24},{"$f":"(D6+F6+H6+J6+L6+N6+P6+R6+T6+V6+X6+Z6)/12","v":{"v":0,"d":"0.00"}},{"$f":"(E6+G6+I6+K6+M6+O6+Q6+S6+U6+W6+Y6+AA6)/12","v":{"v":0,"d":"0.00"}}]
[null,2,"Петров",{"$nulls":24},{"$f":"(D7+F7+H7+J7+L7+N7+P7+R7+T7+V7+X7+Z7)/12","v":{"v":0,"d":"0.00"}},{"v":0,"d":"0.00"}]
[null,3,"Сидоров",{"$nulls":24},{"v":0,"d":"0.00"},{"v":0,"d":"0.00"}]
[null,4,{"$nulls":25},{"v":0,"d":"0.00"},{"v":0,"d":"0.00"}]
[null,5,{"$nulls":25},{"v":0,"d":"0.00"},{"v":0,"d":"0.00"}]
[null,6,{"$nulls":25},{"v":0,"d":"0.00"},{"v":0,"d":"0.00"}]
[null,7,{"$nulls":25},{"v":0,"d":"0.00"},{"v":0,"d":"0.00"}]
[null,8,{"$nulls":25},{"v":0,"d":"0.00"},{"v":0,"d":"0.00"}]
[null,9,{"$nulls":25},{"v":0,"d":"0.00"},{"v":0,"d":"0.00"}]
[null,10,{"$nulls":25},{"v":0,"d":"0.00"},{"v":0,"d":"0.00"}]
[null,11,{"$nulls":25},{"v":0,"d":"0.00"},{"v":0,"d":"0.00"}]
[null,12,{"$nulls":25},{"v":0,"d":"0.00"},{"v":0,"d":"0.00"}]
[null,13,{"$nulls":25},{"v":0,"d":"0.00"},{"v":0,"d":"0.00"}]
[null,14,{"$nulls":25},{"v":0,"d":"0.00"},{"v":0,"d":"0.00"}]
[null,15,{"$nulls":25},{"v":0,"d":"0.00"},{"v":0,"d":"0.00"}]
[null,16,{"$nulls":25},{"v":0,"d":"0.00"},{"v":0,"d":"0.00"}]
[null,17,{"$nulls":25},{"v":0,"d":"0.00"},{"v":0,"d":"0.00"}]
[null,18,{"$nulls":25},{"v":0,"d":"0.00"},{"v":0,"d":"0.00"}]
[null,19,{"$nulls":25},{"v":0,"d":"0.00"},{"v":0,"d":"0.00"}]
[null,20,{"$nulls":25},{"v":0,"d":"0.00"},{"v":0,"d":"0.00"}]
[null,21,{"$nulls":25},{"v":0,"d":"0.00"},{"v":0,"d":"0.00"}]
[null,22,{"$nulls":25},{"v":0,"d":"0.00"},{"v":0,"d":"0.00"}]
[null,23,{"$nulls":25},{"v":0,"d":"0.00"},{"v":0,"d":"0.00"}]
[null,24,{"$nulls":25},{"v":0,"d":"0.00"},{"v":0,"d":"0.00"}]
[null,null,"среднее значение:",{"$f":"(D6+D7+D8+D9+D10+D11+D12+D13+D14+D15+D16+D17+D18+D19+D20+D21+D22+D23+D24+D25+D26+D27+D28+D29)/COUNTA($C$6:$C$29)","v":{"v":0,"d":"0.00"}},{"$f":"(E6+E7+E8+E9+E10+E11+E12+E13+E14+E15+E16+E17+E18+E19+E20+E21+E22+E23+E24+E25+E26+E27+E28+E29)/COUNTA($C$6:$C$29)","v":{"v":0,"d":"0.00"}},{"v":0,"d":"0.00"},{"v":0,"d":"0.00"},{"v":0,"d":"0.00"},{"v":0,"d":"0.00"},{"v":0,"d":"0.00"},{"v":0,"d":"0.00"},{"v":0,"d":"0.00"},{"v":0,"d":"0.00"},{"v":0,"d":"0.00"},{"v":0,"d":"0.00"},{"v":0,"d":"0.00"},{"v":0,"d":"0.00"},{"v":0,"d":"0.00"},{"v":0,"d":"0.00"},{"v":0,"d":"0.00"},{"v":0,"d":"0.00"},{"v":0,"d":"0.00"},{"v":0,"d":"0.00"},{"v":0,"d":"0.00"},{"v":0,"d":"0.00"},{"v":0,"d":"0.00"},{"v":0,"d":"0.00"},{"$f":"(D30+F30+H30+J30+L30+N30+P30+R30+T30+V30+X30+Z30)/12","v":{"v":0,"d":"0.00"}},{"$f":"(E30+G30+I30+K30+M30+O30+Q30+S30+U30+W30+Y30+AA30)/12","v":{"v":0,"d":"0.00"}}]
[]
[null,null,"начало года"]
[{"$nulls":3},"всего","норма","ниже нормы","низкий "]
[null,null,"количество детей",{"$f":"COUNTA($C$6:$C$29)","v":3},{"$f":"COUNTIF(AB6:AB29,\">=3,8\")","v":0},{"$f":"COUNTIFS(AB6:AB29,\"<3,7\",AB6:AB29,\">=2,3\")","v":0},{"$f":"COUNTIFS(AB6:AB29,\"<2,2\",AB6:AB29,\">0\")","v":0}]
[null,null,"%",100,{"$f":"E34*D35/D34","v":{"v":0,"d":"0.00"}},{"$f":"F34*D35/D34","v":{"v":0,"d":"0.00"}},{"$f":"G34*D35/D34","v":{"v":0,"d":"0.00"}}]
[]
[null,null,"конец года"]
[{"$nulls":3},"всего","норма","ниже нормы","низкий "]
[null,null,"количество детей",{"$f":"COUNTA(C5:C28)","v":3},{"$f":"COUNTIF(AC6:AC29,\">=3,8\")","v":0},{"$f":"COUNTIFS(AC6:AC29,\"<3,7\",AC6:AC29,\">=2,3\")","v":0},{"$f":"COUNTIFS(AC6:AC29,\"<2,2\",AC6:AC29,\">0\")","v":0}]
[null,null,"%",100,{"$f":"E39*D40/D39","v":{"v":0,"d":"0.00"}},{"$f":"F39*D40/D39","v":{"v":0,"d":"0.00"}},{"$f":"G39*D40/D39","v":{"v":0,"d":"0.00"}}]

{"sheet":"ХЭ-5","index":20,"n_rows":40,"n_cols":14,"rows_kept":40,"merged":[[1,12,1,13],[2,0,4,0],[2,1,4,1],[2,2,2,5],[2,6,3,7],[2,8,2,11],[2,12,3,13],[3,2,3,3],[3,4,3,5],[3,8,3,9],[3,10,3,11],[32,7,32,9],[33,7,33,9],[34,7,34,9],[35,7,35,9],[36,7,36,9],[37,7,37,9],[38,7,38,9],[39,7,39,9]]}
["НАПРАВЛЕНИЕ 5,6. ТЕАТРАЛИЗОВАННАЯ И КУЛЬТУРНО-ДОСУГОВАЯ ДЕЯТЕЛЬНОСТЬ"]
[{"$nulls":12},"ОГЛАВЛЕНИЕ"]
["№п/п","ФИ ребенка","Театрализованная деятельность",{"$nulls":3},"среднее значение ",null,"Культурно-досуговая деятельность",{"$nulls":3},"среднее значение "]
[null,null,"Участвует в разыгрывании простых представлений",null,"Использует в играх различные виды театра (бибабо, нстольный, плоскостной)",{"$nulls":3},"Участвует в подготовке развлечения",null,"С удовольствием участвует в праздниках, развлечениях и тд"]
[null,null,"н.г.","к.г.","н.г.","к.г.","н.г.","к.г.","н.г.","к.г.","н.г.","к.г.","н.г.","к.г."]
[1,"Иванов",{"$nulls":4},{"$f":"(C6+E6)/2","v":{"v":0,"d":"0.00"}},{"$f":"(D6+F6)/2","v":{"v":0,"d":"0.00"}},{"$nulls":4},{"$f":"(I6+K6)/2","v":{"v":0,"d":"0.00"}},{"v":0,"d":"0.00"}]
[2,"Петров",{"$nulls":4},{"$f":"(C7+E7)/2","v":{"v":0,"d":"0.00"}},{"v":0,"d":"0.00"},{"$nulls":4},{"v":0,"d":"0.00"},{"v":0,"d":"0.00"}]
[3,"Сидоров",{"$nulls":4},{"v":0,"d":"0.00"},{"v":0,"d":"0.00"},{"$nulls":4},{"v":0,"d":"0.00"},{"v":0,"d":"0.00"}]
[4,{"$nulls":5},{"v":0,"d":"0.00"},{"v":0,"d":"0.00"},{"$nulls":4},{"v":0,"d":"0.00"},{"v":0,"d":"0.00"}]
[5,{"$nulls":5},{"v":0,"d":"0.00"},{"v":0,"d":"0.00"},{"$nulls":4},{"v":0,"d":"0.00"},{"v":0,"d":"0.00"}]
[6,{"$nulls":5},{"v":0,"d":"0.00"},{"v":0,"d":"0.00"},{"$nulls":4},{"v":0,"d":"0.00"},{"v":0,"d":"0.00"}]
[7,{"$nulls":5},{"v":0,"d":"0.00"},{"v":0,"d":"0.00"},{"$nulls":4},{"v":0,"d":"0.00"},{"v":0,"d":"0.00"}]
[8,{"$nulls":5},{"v":0,"d":"0.00"},{"v":0,"d":"0.00"},{"$nulls":4},{"v":0,"d":"0.00"},{"v":0,"d":"0.00"}]
[9,{"$nulls":5},{"v":0,"d":"0.00"},{"v":0,"d":"0.00"},{"$nulls":4},{"v":0,"d":"0.00"},{"v":0,"d":"0.00"}]
[10,{"$nulls":5},{"v":0,"d":"0.00"},{"v":0,"d":"0.00"},{"$nulls":4},{"v":0,"d":"0.00"},{"v":0,"d":"0.00"}]
[11,{"$nulls":5},{"v":0,"d":"0.00"},{"v":0,"d":"0.00"},{"$nulls":4},{"v":0,"d":"0.00"},{"v":0,"d":"0.00"}]
[12,{"$nulls":5},{"v":0,"d":"0.00"},{"v":0,"d":"0.00"},{"$nulls":4},{"v":0,"d":"0.00"},{"v":0,"d":"0.00"}]
[13,{"$nulls":5},{"v":0,"d":"0.00"},{"v":0,"d":"0.00"},{"$nulls":4},{"v":0,"d":"0.00"},{"v":0,"d":"0.00"}]
[14,{"$nulls":5},{"v":0,"d":"0.00"},{"v":0,"d":"0.00"},{"$nulls":4},{"v":0,"d":"0.00"},{"v":0,"d":"0.00"}]
[15,{"$nulls":5},{"v":0,"d":"0.00"},{"v":0,"d":"0.00"},{"$nulls":4},{"v":0,"d":"0.00"},{"v":0,"d":"0.00"}]
[16,{"$nulls":5},{"v":0,"d":"0.00"},{"v":0,"d":"0.00"},{"$nulls":4},{"v":0,"d":"0.00"},{"v":0,"d":"0.00"}]
[17,{"$nulls":5},{"v":0,"d":"0.00"},{"v":0,"d":"0.00"},{"$nulls":4},{"v":0,"d":"0.00"},{"v":0,"d":"0.00"}]
[18,{"$nulls":5},{"v":0,"d":"0.00"},{"v":0,"d":"0.00"},{"$nulls":4},{"v":0,"d":"0.00"},{"v":0,"d":"0.00"}]
[19,{"$nulls":5},{"v":0,"d":"0.00"},{"v":0,"d":"0.00"},{"$nulls":4},{"v":0,"d":"0.00"},{"v":0,"d":"0.00"}]
[20,{"$nulls":5},{"v":0,"d":"0.00"},{"v":0,"d":"0.00"},{"$nulls":4},{"v":0,"d":"0.00"},{"v":0,"d":"0.00"}]
[21,{"$nulls":5},{"v":0,"d":"0.00"},{"v":0,"d":"0.00"},{"$nulls":4},{"v":0,"d":"0.00"},{"v":0,"d":"0.00"}]
[22,{"$nulls":5},{"v":0,"d":"0.00"},{"v":0,"d":"0.00"},{"$nulls":4},{"v":0,"d":"0.00"},{"v":0,"d":"0.00"}]
[23,{"$nulls":5},{"v":0,"d":"0.00"},{"v":0,"d":"0.00"},{"$nulls":4},{"v":0,"d":"0.00"},{"v":0,"d":"0.00"}]
[24,{"$nulls":5},{"v":0,"d":"0.00"},{"v":0,"d":"0.00"},{"$nulls":4},{"v":0,"d":"0.00"},{"v":0,"d":"0.00"}]
[null,"среднее значение:",{"$f":"(C6+C7+C8+C9+C10+C11+C12+C13+C14+C15+C16+C17+C18+C19+C20+C21+C22+C23+C24+C25+C26+C27+C28+C29)/COUNTA($B$6:$B$29)","v":{"v":0,"d":"0.00"}},{"$f":"(D6+D7+D8+D9+D10+D11+D12+D13+D14+D15+D16+D17+D18+D19+D20+D21+D22+D23+D24+D25+D26+D27+D28+D29)/COUNTA($B$6:$B$29)","v":{"v":0,"d":"0.00"}},{"v":0,"d":"0.00"},{"v":0,"d":"0.00"},{"$f":"(C30+E30)/2","v":{"v":0,"d":"0.00"}},{"$f":"(D30+F30)/2","v":{"v":0,"d":"0.00"}},{"v":0,"d":"0.00"},{"v":0,"d":"0.00"},{"v":0,"d":"0.00"},{"v":0,"d":"0.00"},{"$f":"(I30+K30)/2","v":{"v":0,"d":"0.00"}},{"$f":"(J30+L30)/2","v":{"v":0,"d":"0.00"}}]
[]
[null,"ТЕАТРАЛИЗОВАННАЯ ДЕЯТЕЛЬНОСТЬ:",{"$nulls":5},"КУЛЬТУРНО-ДОСУГОВАЯ ДЕЯТЕЛЬНОСТЬ:"]
[null,"начало года",{"$nulls":5},"начало года"]
[null,null,"всего","норма","ниже нормы","низкий ",{"$nulls":4},"всего","норма","ниже нормы","низкий "]
[null,"количество детей",{"$f":"COUNTA($B$6:$B$29)","v":3},{"$f":"COUNTIF(G6:G29,\">=3,8\")","v":0},{"$f":"COUNTIFS(G6:G29,\"<3,7\",G6:G29,\">=2,3\")","v":0},{"$f":"COUNTIFS(G6:G29,\"<2,2\",G6:G29,\">0\")","v":0},null,"количество детей",null,null,{"$f":"COUNTA(B6:B29)","v":3},{"$f":"COUNTIF(M9:M29,\">=3,8\")","v":0},{"$f":"COUNTIFS(M9:M29,\"<3,7\",M9:M29,\">=2,3\")","v":0},{"$f":"COUNTIFS(M9:M29,\"<2,2\",M9:M29,\">0\")","v":0}]
[null,"%",100,{"$f":"D35*C36/C35","v":{"v":0,"d":"0.00"}},{"$f":"E35*C36/C35","v":{"v":0,"d":"0.00"}},{"$f":"F35*C36/C35","v":{"v":0,"d":"0.00"}},null,"%",null,null,100,{"$f":"L35*K36/K35","v":{"v":0,"d":"0.00"}},{"$f":"M35*K36/K35","v":{"v":0,"d":"0.00"}},{"$f":"N35*K36/K35","v":{"v":0,"d":"0.00"}}]
[null,"конец года",{"$nulls":5},"конец года"]
[null,null,"всего","норма","ниже нормы","низкий ",{"$nulls":4},"всего","норма","ниже нормы","низкий "]
[null,"количество детей",{"$f":"COUNTA(B5:B28)","v":3},{"$f":"COUNTIF(H6:H29,\">=3,8\")","v":0},{"$f":"COUNTIFS(H6:H29,\"<3,7\",H6:H29,\">=2,3\")","v":0},{"$f":"COUNTIFS(H6:H29,\"<2,2\",H6:H29,\">0\")","v":0},null,"количество детей",null,null,{"$f":"COUNTA(B6:B29)","v":3},{"$f":"COUNTIF(N9:N29,\">=3,8\")","v":0},{"$f":"COUNTIFS(N9:N29,\"<3,7\",N9:N29,\">=2,3\")","v":0},{"$f":"COUNTIFS(N9:N29,\"<2,2\",N9:N29,\">0\")","v":0}]
[null,"%",100,{"$f":"D39*C40/C39","v":{"v":0,"d":"0.00"}},{"$f":"E39*C40/C39","v":{"v":0,"d":"0.00"}},{"$f":"F39*C40/C39","v":{"v":0,"d":"0.00"}},null,"%",null,null,100,{"$f":"L39*K40/K39","v":{"v":0,"d":"0.00"}},{"$f":"M39*K40/K39","v":{"v":0,"d":"0.00"}},{"$f":"N39*K40/K39","v":{"v":0,"d":"0.00"}}]

{"sheet":"ИТОГ ХЭ","index":21,"n_rows":37,"n_cols":8,"rows_kept":37,"merged":[[0,0,0,7],[1,0,1,7],[28,0,28,1],[28,2,28,7],[29,2,29,7],[30,2,30,7],[31,2,31,7],[32,2,32,7],[33,2,33,7],[34,2,34,7],[36,0,36,1],[36,2,36,7],[37,2,37,7],[38,2,38,7],[39,2,39,7],[40,2,40,7],[41,2,41,7],[42,2,42,7]]}
["Обобщение результатов педагогической диагностики по направлениям"]
[" ОО «Художественно-эстетическое развитие»"]
[]
["ОГЛАВЛЕНИЕ","Приобщение к искусству","Изобразительная деятельность","Конструктивная деятельность","Музыкальная деятельность","Театрализованная деятельность","Культурно - досуговая деятельность","Средний балл/уровень "]
[null,1,2,3,4,5,6,"ср.ур."]
["начало",{"$f":"'ХЭ-1'!AC32","v":{"v":0,"d":"0.00"}},{"$f":"'ХЭ-2'!AD30","v":{"v":0,"d":"0.00"}},{"$f":"'ХЭ-3'!N30","v":{"v":0,"d":"0.00"}},{"$f":"'ХЭ-4'!AB30","v":{"v":0,"d":"0.00"}},{"$f":"'ХЭ-5'!G30","v":{"v":0,"d":"0.00"}},{"$f":"'ХЭ-5'!M30","v":{"v":0,"d":"0.00"}},{"$f":"(B6+C6+D6+E6+F6+G6)/6","v":{"v":0,"d":"0.00"}}]
["конец",{"$f":"'ХЭ-1'!AD32","v":{"v":0,"d":"0.00"}},{"$f":"'ХЭ-2'!AE30","v":{"v":0,"d":"0.00"}},{"$f":"'ХЭ-3'!O30","v":{"v":0,"d":"0.00"}},{"$f":"'ХЭ-4'!AC30","v":{"v":0,"d":"0.00"}},{"$f":"'ХЭ-5'!H30","v":{"v":0,"d":"0.00"}},{"$f":"'ХЭ-5'!N30","v":{"v":0,"d":"0.00"}},{"$f":"(B7+C7+D7+E7+F7+G7)/6","v":{"v":0,"d":"0.00"}}]
{"$rows_empty":20}
["ВЫВОДЫ:"]
["Начало учебного года:"]
{"$rows_empty":7}
["Конец учебного года:"]

{"sheet":"ФР-1","index":22,"n_rows":41,"n_cols":36,"rows_kept":41,"merged":[[0,0,0,35],[1,23,1,24],[3,0,5,0],[3,1,5,1],[3,2,3,25],[3,26,3,27],[3,28,3,33],[3,34,4,35],[4,2,4,3],[4,4,4,5],[4,6,4,7],[4,8,4,9],[4,10,4,11],[4,12,4,13],[4,14,4,15],[4,16,4,17],[4,18,4,19],[4,20,4,21],[4,22,4,23],[4,24,4,25],[4,26,4,27],[4,28,4,29],[4,30,4,31],[4,32,4,33]]}
["Образовательная область «Физическое развитие»"]
["НАПРАВЛЕНИЕ I. ОСНОВНАЯ ГИМНАСТИКА. ПОДВИЖНЫЕ ИГРЫ. СПОРТИВНЫЕ УПРАЖНЕНИЯ",{"$nulls":22},"ОГЛАВЛЕНИЕ"]
[]
["№п/п","ФИ ребенка","Основные движения",{"$nulls":23},"Подвижные игры",null,"Спортивные упражнения",{"$nulls":5},"среднее значение "]
[null,null,"Умеет прокатывать мяч между линиями, шнурами, палками",null,"Умеет прокатывать обруч педагогу, друг другу в парах",null,"Умеет перебрасывать мяч друг другу, бросает двумя руками из-за головы, отбивает мяч о землю правой и левой рукой не менее 5 раз",null,"Ползает на четвереньказ по заданию: \"змейкой\", в обручи, под дуги, по наклонной доске",null,"Умеет ходить в колонне но одному",null,"Умеет бегать в колонне по одному, на носках, высоко поднимая колени; обегая предметы; на месте; бег в рассыпную по сигналу с последующим нахождением своего места в колонне",null,"Умеет прыгатьна двух ногах на месте, с поворотом вправо и влево, вокруг себя",null,"Прыгает на двух ногах на месте. с продвижением вперед, перепрыгивает через шнур, плоский кубик",null,"Умеет ходить по доске(перешагивание через предметы, с мешочком на голове, с предметов в руках, ставя ногу с носка - руки в стороны)",null,"Выполняеет ОРУ из разных И.п., в разном темпе, с предметамии без",null,"Умеет перестраиваться в колонну по одному, по два, по росту, в рассыпную",null,"Упеет перестраиваться из колонны по одному в колонну по 2 в движении",null,"соблюдает правила игры",null,"Умеет ходить на лыжах скользящим шагом, повороты н месте, подъем в гору \"ступающим шагом\", \"полуёлочкой\"",null,"Катание на велосипеде, самокате: по прямой, по кругу с поворотами, с разной скоростью",null,"Переносит освоенные движения в самостоятельную деятельность"]
[null,null,"н.г.","к.г.","н.г.","к.г.","н.г.","к.г.","н.г.","к.г.","н.г.","к.г.","н.г.","к.г.","н.г.","к.г.","н.г.","к.г.","н.г.","к.г.","н.г.","к.г.","н.г.","к.г.","н.г.","к.г.","н.г.","к.г.","н.г.","к.г.","н.г.","к.г.","н.г.","к.г.","н.г.","к.г."]
[1,"Иванов",{"$nulls":32},{"$f":"(C7+E7+G7+I7+K7+M7+O7+Q7+S7+U7+W7+Y7+AA7+AC7+AE7+AG7)/16","v":{"v":0,"d":"0.0"}},{"$f":"(D7+F7+H7+J7+L7+N7+P7+R7+T7+V7+X7+Z7+AB7+AD7+AF7+AH7)/16","v":{"v":0,"d":"0.0"}}]
[2,"Петров",{"$nulls":32},{"$f":"(C8+E8+G8+I8+K8+M8+O8+Q8+S8+U8+W8+Y8+AA8+AC8+AE8+AG8)/16","v":{"v":0,"d":"0.0"}},{"v":0,"d":"0.0"}]
[3,"Сидоров",{"$nulls":32},{"v":0,"d":"0.0"},{"v":0,"d":"0.0"}]
[4,{"$nulls":33},{"v":0,"d":"0.0"},{"v":0,"d":"0.0"}]
[5,{"$nulls":33},{"v":0,"d":"0.0"},{"v":0,"d":"0.0"}]
[6,{"$nulls":33},{"v":0,"d":"0.0"},{"v":0,"d":"0.0"}]
[7,{"$nulls":33},{"v":0,"d":"0.0"},{"v":0,"d":"0.0"}]
[8,{"$nulls":33},{"v":0,"d":"0.0"},{"v":0,"d":"0.0"}]
[9,{"$nulls":33},{"v":0,"d":"0.0"},{"v":0,"d":"0.0"}]
[10,{"$nulls":33},{"v":0,"d":"0.0"},{"v":0,"d":"0.0"}]
[11,{"$nulls":33},{"v":0,"d":"0.0"},{"v":0,"d":"0.0"}]
[12,{"$nulls":33},{"v":0,"d":"0.0"},{"v":0,"d":"0.0"}]
[13,{"$nulls":33},{"v":0,"d":"0.0"},{"v":0,"d":"0.0"}]
[14,{"$nulls":33},{"v":0,"d":"0.0"},{"v":0,"d":"0.0"}]
[15,{"$nulls":33},{"v":0,"d":"0.0"},{"v":0,"d":"0.0"}]
[16,{"$nulls":33},{"v":0,"d":"0.0"},{"v":0,"d":"0.0"}]
[17,{"$nulls":33},{"v":0,"d":"0.0"},{"v":0,"d":"0.0"}]
[18,{"$nulls":33},{"v":0,"d":"0.0"},{"v":0,"d":"0.0"}]
[19,{"$nulls":33},{"v":0,"d":"0.0"},{"v":0,"d":"0.0"}]
[20,{"$nulls":33},{"v":0,"d":"0.0"},{"v":0,"d":"0.0"}]
[21,{"$nulls":33},{"v":0,"d":"0.0"},{"v":0,"d":"0.0"}]
[22,{"$nulls":33},{"v":0,"d":"0.0"},{"v":0,"d":"0.0"}]
[23,{"$nulls":33},{"v":0,"d":"0.0"},{"v":0,"d":"0.0"}]
[24,{"$nulls":33},{"v":0,"d":"0.0"},{"v":0,"d":"0.0"}]
[null,"среднее значение:",{"$f":"(C7+C8+C9+C10+C11+C12+C13+C14+C15+C16+C17+C18+C19+C20+C21+C22+C23+C24+C25+C26+C27+C28+C29+C30)/COUNTA($B$7:$B$30)","v":{"v":0,"d":"0.0"}},{"$f":"(D7+D8+D9+D10+D11+D12+D13+D14+D15+D16+D17+D18+D19+D20+D21+D22+D23+D24+D25+D26+D27+D28+D29+D30)/COUNTA($B$7:$B$30)","v":{"v":0,"d":"0.0"}},{"v":0,"d":"0.0"},{"v":0,"d":"0.0"},{"v":0,"d":"0.0"},{"v":0,"d":"0.0"},{"v":0,"d":"0.0"},{"v":0,"d":"0.0"},{"v":0,"d":"0.0"},{"v":0,"d":"0.0"},{"v":0,"d":"0.0"},{"v":0,"d":"0.0"},{"v":0,"d":"0.0"},{"v":0,"d":"0.0"},{"v":0,"d":"0.0"},{"v":0,"d":"0.0"},{"v":0,"d":"0.0"},{"v":0,"d":"0.0"},{"v":0,"d":"0.0"},{"v":0,"d":"0.0"},{"v":0,"d":"0.0"},{"v":0,"d":"0.0"},{"v":0,"d":"0.0"},{"v":0,"d":"0.0"},{"v":0,"d":"0.0"},{"v":0,"d":"0.0"},{"v":0,"d":"0.0"},{"v":0,"d":"0.0"},{"v":0,"d":"0.0"},{"v":0,"d":"0.0"},{"v":0,"d":"0.0"},{"v":0,"d":"0.0"},{"v":0,"d":"0.0"},{"v":0,"d":"0.0"}]
[]
[null,"начало года"]
[null,null,"всего","норма","ниже нормы","низкий "]
[null,"количество детей",{"$f":"COUNTA($B$7:$B$30)","v":3},{"$f":"COUNTIF(AI7:AI30,\">=3,8\")","v":0},{"$f":"COUNTIFS(AI7:AI30,\"<3,7\",AI7:AI30,\">=2,3\")","v":0},{"$f":"COUNTIFS(AI7:AI30,\"<2,2\",AI7:AI30,\">0\")","v":0}]
[null,"%",100,{"$f":"D35*C36/C35","v":0},{"$f":"E35*C36/C35","v":{"v":0,"d":"0.0"}},{"$f":"F35*C36/C35","v":{"v":0,"d":"0.0"}}]
[]
[null,"конец года"]
[null,null,"всего","норма","ниже нормы","низкий "]
[null,"количество детей",{"$f":"COUNTA(B7:B30)","v":3},{"$f":"COUNTIF(AJ7:AJ30,\">=3,8\")","v":0},{"$f":"COUNTIFS(AJ7:AJ30,\"<3,7\",AJ7:AJ30,\">=2,3\")","v":0},{"$f":"COUNTIFS(AJ7:AJ30,\"<2,2\",AJ7:AJ30,\">0\")","v":0}]
[null,"%",100,{"$f":"D40*C41/C40","v":{"v":0,"d":"0.0"}},{"$f":"E40*C41/C40","v":{"v":0,"d":"0.0"}},{"$f":"F40*C41/C40","v":{"v":0,"d":"0.0"}}]

{"sheet":"ФР-2","index":23,"n_rows":39,"n_cols":18,"rows_kept":39,"merged":[[0,15,0,16],[2,0,3,0],[2,1,3,1],[2,2,2,3],[2,4,2,5],[2,6,2,7],[2,8,2,9],[2,10,2,11],[2,12,2,13],[2,14,2,15],[2,16,2,17]]}
["НАПРАВЛЕНИЕ 2. ФОРМИРОВАНИЕ ОСНОВ ЗДОРОВОГО ОБРАЗА ЖИЗНИ. АКТИВНЫЙ ОТДЫХ",{"$nulls":14},"ОГЛАВЛЕНИЕ"]
[]
["№п/п","ФИ ребенка","Умеет охараетенизовать свое самочувствие, привлечь внимание взрослого в случае недомогания",null,"Стремится в самостоятельному осуществлению процессов личной гигиены, их правильной организации",null,"Знает назначение частей тела и некоторых органов, может рассказать об этом",null,"Воспроизводит некоторые пальчиковые игры на одной и двух руках",null,"Умеет удерживать двумя пальцами мелкие предметы, переносить и класть, в маленькую емкость",null,"Соблюдает правила безопасного поведения в двигательной деятельности",null,"Знает о значении для здоровья утренней гим­настики, закаливания, соблюдения режима дня, спортивных игр",null,"среднее значение"]
[null,null,"н.г.","к.г.","н.г.","к.г.","н.г.","к.г.","н.г.","к.г.","н.г.","к.г.","н.г.","к.г.","н.г.","к.г.","н.г.","к.г."]
[1,"Иванов",{"$nulls":14},{"$f":"(C5+E5+G5+I5+K5+M5+O5)/7","v":{"v":0,"d":"0.0"}},{"$f":"(D5+F5+H5+J5+L5+N5+P5)/7","v":{"v":0,"d":"0.0"}}]
[2,"Петров",{"$nulls":14},{"$f":"(C6+E6+G6+I6+K6+M6+O6)/7","v":{"v":0,"d":"0.0"}},{"v":0,"d":"0.0"}]
[3,"Сидоров",{"$nulls":14},{"v":0,"d":"0.0"},{"v":0,"d":"0.0"}]
[4,{"$nulls":15},{"v":0,"d":"0.0"},{"v":0,"d":"0.0"}]
[5,{"$nulls":15},{"v":0,"d":"0.0"},{"v":0,"d":"0.0"}]
[6,{"$nulls":15},{"v":0,"d":"0.0"},{"v":0,"d":"0.0"}]
[7,{"$nulls":15},{"v":0,"d":"0.0"},{"v":0,"d":"0.0"}]
[8,{"$nulls":15},{"v":0,"d":"0.0"},{"v":0,"d":"0.0"}]
[9,{"$nulls":15},{"v":0,"d":"0.0"},{"v":0,"d":"0.0"}]
[10,{"$nulls":15},{"v":0,"d":"0.0"},{"v":0,"d":"0.0"}]
[11,{"$nulls":15},{"v":0,"d":"0.0"},{"v":0,"d":"0.0"}]
[12,{"$nulls":15},{"v":0,"d":"0.0"},{"v":0,"d":"0.0"}]
[13,{"$nulls":15},{"v":0,"d":"0.0"},{"v":0,"d":"0.0"}]
[14,{"$nulls":15},{"v":0,"d":"0.0"},{"v":0,"d":"0.0"}]
[15,{"$nulls":15},{"v":0,"d":"0.0"},{"v":0,"d":"0.0"}]
[16,{"$nulls":15},{"v":0,"d":"0.0"},{"v":0,"d":"0.0"}]
[17,{"$nulls":15},{"v":0,"d":"0.0"},{"v":0,"d":"0.0"}]
[18,{"$nulls":15},{"v":0,"d":"0.0"},{"v":0,"d":"0.0"}]
[19,{"$nulls":15},{"v":0,"d":"0.0"},{"v":0,"d":"0.0"}]
[20,{"$nulls":15},{"v":0,"d":"0.0"},{"v":0,"d":"0.0"}]
[21,{"$nulls":15},{"v":0,"d":"0.0"},{"v":0,"d":"0.0"}]
[22,{"$nulls":15},{"v":0,"d":"0.0"},{"v":0,"d":"0.0"}]
[23,{"$nulls":15},{"v":0,"d":"0.0"},{"v":0,"d":"0.0"}]
[24,{"$nulls":15},{"v":0,"d":"0.0"},{"v":0,"d":"0.0"}]
[null,"среднее значение:",{"$f":"(C5+C6+C7+C8+C9+C10+C11+C12+C13+C14+C15+C16+C17+C18+C19+C20+C21+C22+C23+C24+C25+C26+C27+C28)/COUNTA($B$5:$B$28)","v":{"v":0,"d":"0.0"}},{"$f":"(D5+D6+D7+D8+D9+D10+D11+D12+D13+D14+D15+D16+D17+D18+D19+D20+D21+D22+D23+D24+D25+D26+D27+D28)/COUNTA($B$5:$B$28)","v":{"v":0,"d":"0.0"}},{"v":0,"d":"0.0"},{"v":0,"d":"0.0"},{"v":0,"d":"0.0"},{"v":0,"d":"0.0"},{"v":0,"d":"0.0"},{"v":0,"d":"0.0"},{"v":0,"d":"0.0"},{"v":0,"d":"0.0"},{"v":0,"d":"0.0"},{"v":0,"d":"0.0"},{"v":0,"d":"0.0"},{"v":0,"d":"0.0"},{"v":0,"d":"0.0"},{"v":0,"d":"0.0"}]
[]
[null,"начало года"]
[null,null,"всего","норма","ниже нормы","низкий "]
[null,"количество детей",{"$f":"COUNTA($B$5:$B$28)","v":3},{"$f":"COUNTIF(Q5:Q28,\">=4\")","v":0},{"$f":"COUNTIFS(Q5:Q28,\"<3,9\",Q5:Q28,\">=3\")","v":0},{"$f":"COUNTIFS(Q5:Q28,\"<2\",Q5:Q28,\">0\")","v":0}]
[null,"%",100,{"$f":"D33*C34/C33","v":0},{"$f":"E33*C34/C33","v":{"v":0,"d":"0.0"}},{"$f":"F33*C34/C33","v":{"v":0,"d":"0.0"}}]
[]
[null,"конец года"]
[null,null,"всего","норма","ниже нормы","низкий "]
[null,"количество детей",{"$f":"COUNTA(B4:B27)","v":3},{"$f":"COUNTIF(R5:R28,\">=4\")","v":0},{"$f":"COUNTIFS(R5:R28,\"<3,9\",R5:R28,\">=3\")","v":0},{"$f":"COUNTIFS(R5:R28,\"<2\",R5:R28,\">0\")","v":0}]
[null,"%",100,{"$f":"D38*C39/C38","v":{"v":0,"d":"0.0"}},{"$f":"E38*C39/C38","v":{"v":0,"d":"0.0"}},{"$f":"F38*C39/C38","v":{"v":0,"d":"0.0"}}]

{"sheet":"ИТОГ ФР","index":24,"n_rows":35,"n_cols":5,"rows_kept":35,"merged":[[0,0,0,5],[1,2,1,3],[26,0,26,1],[26,2,26,5],[27,2,27,5],[28,2,28,5],[29,2,29,5],[30,2,30,5],[31,2,31,5],[32,2,32,5],[34,0,34,1],[34,2,34,5],[35,2,35,5],[36,2,36,5],[37,2,37,5],[38,2,38,5],[39,2,39,5],[40,2,40,5]]}
["Обобщение результатов педагогической диагностики по направлениям"]
[null,null,"ОО «Физическое развитие»"]
[]
[null,"ОГЛАВЛЕНИЕ","Основная гимнастика; подвижные и спортивные игры, спортивные упражнения","Формирование основ здорового образа жизни","Средний балл/уровень"]
[null,null,1,2,"ср.ур."]
[null,"начало",{"$f":"'ФР-1'!AI31","v":{"v":0,"d":"0.00"}},{"$f":"'ФР-2'!$Q$29","v":{"v":0,"d":"0.00"}},{"$f":"(C6+D6)/2","v":{"v":0,"d":"0.00"}}]
[null,"конец",{"$f":"'ФР-1'!AJ31","v":{"v":0,"d":"0.00"}},{"$f":"'ФР-2'!$R$29","v":{"v":0,"d":"0.00"}},{"$f":"(C7+D7)/2","v":{"v":0,"d":"0.00"}}]
{"$rows_empty":18}
["ВЫВОДЫ:"]
["Начало учебного года:"]
{"$rows_empty":7}
["Конец учебного года:"]

{"sheet":"ИТОГОВАЯ ПО ОО","index":25,"n_rows":86,"n_cols":8,"rows_kept":86,"merged":[[0,1,0,7],[1,1,1,7],[29,0,29,5],[30,0,30,7],[31,2,31,7],[35,2,35,7],[39,2,39,7],[40,2,40,7],[41,2,41,7],[42,2,42,7],[44,4,44,7],[52,4,52,7],[63,4,63,7],[74,4,74,7],[85,4,85,7],[86,4,86,7],[87,4,87,7],[88,4,88,7],[89,4,89,7],[90,4,90,7],[91,4,91,7],[92,4,92,7],[93,4,93,7],[94,4,94,7],[95,4,95,7]]}
[null,"Обобщение результатов педагогической диагностики по всем образовательным областям "]
[null," на 202__/2___ учебный год"]
[]
[null,"ОГЛАВЛЕНИЕ","Социально-­коммуникативное развитие","Познавательное развитие","Речевое развитие","Художественно­эстетическое развитие","Физическое развитие","Средний балл/уровень"]
[null,null,"СК","ПР","РР","ХЭР","ФР","ср.ур."]
[null,"начало",{"$f":"'ИТОГ СК'!G5","v":{"v":0.78125,"d":"0.78"}},{"$f":"'ИТОГ ПР'!F5","v":{"v":0.31481481481481477,"d":"0.31"}},{"$f":"'ИТОГ РР'!G6","v":{"v":0,"d":"0.00"}},{"$f":"'ИТОГ ХЭ'!H6","v":{"v":0,"d":"0.00"}},{"$f":"'ИТОГ ФР'!$E$6","v":{"v":0,"d":"0.00"}},{"$f":"(C6+D6+E6+F6+G6)/5","v":{"v":0.21921296296296297,"d":"0.22"}}]
[null,"конец",{"$f":"'ИТОГ СК'!G6","v":{"v":1.0833333333333333,"d":"1.08"}},{"$f":"'ИТОГ ПР'!F6","v":{"v":0.4259259259259259,"d":"0.43"}},{"$f":"'ИТОГ РР'!G7","v":{"v":0,"d":"0.00"}},{"$f":"'ИТОГ ХЭ'!H7","v":{"v":0,"d":"0.00"}},{"$f":"'ИТОГ ФР'!$E$7","v":{"v":0,"d":"0.00"}},{"$f":"(C7+D7+E7+F7+G7)/5","v":{"v":0.3018518518518518,"d":"0.30"}}]
{"$rows_empty":20}
[null,"Основные выводы по результатам педагогической диагностики"]
[]
["Педагогический процесс организован на ___________________________ уровне."]
["Следует обратить внимание на трудности реализации образовательной(-ых) области(-ей) «_________ развитие» в следующих аспектах:"]
["1."]
[]
[]
[]
["2."]
[]
[]
[]
["3."]
[]
[]
[]
["В индивидуальной помощи нуждаются следующие дети:"]
["1. «Речевое развитие»:"]
{"$rows_empty":7}
["2. «Познавательное развитие»:"]
{"$rows_empty":10}
["3. «Социально-коммуникативное развитие»: "]
{"$rows_empty":10}
["4. «Художественно-эстетическое развитие»:"]
{"$rows_empty":10}
["5. «Физическое развитие»: "]